BEGIN:VCALENDAR
VERSION:2.0
PRODID:-//CACCN - ECPv6.15.20//NONSGML v1.0//EN
CALSCALE:GREGORIAN
METHOD:PUBLISH
X-ORIGINAL-URL:https://caccn.ca
X-WR-CALDESC:Events for CACCN
REFRESH-INTERVAL;VALUE=DURATION:PT1H
X-Robots-Tag:noindex
X-PUBLISHED-TTL:PT1H
BEGIN:VTIMEZONE
TZID:America/Toronto
BEGIN:DAYLIGHT
TZOFFSETFROM:-0500
TZOFFSETTO:-0400
TZNAME:EDT
DTSTART:20240310T070000
END:DAYLIGHT
BEGIN:STANDARD
TZOFFSETFROM:-0400
TZOFFSETTO:-0500
TZNAME:EST
DTSTART:20241103T060000
END:STANDARD
BEGIN:DAYLIGHT
TZOFFSETFROM:-0500
TZOFFSETTO:-0400
TZNAME:EDT
DTSTART:20250309T070000
END:DAYLIGHT
BEGIN:STANDARD
TZOFFSETFROM:-0400
TZOFFSETTO:-0500
TZNAME:EST
DTSTART:20251102T060000
END:STANDARD
BEGIN:DAYLIGHT
TZOFFSETFROM:-0500
TZOFFSETTO:-0400
TZNAME:EDT
DTSTART:20260308T070000
END:DAYLIGHT
BEGIN:STANDARD
TZOFFSETFROM:-0400
TZOFFSETTO:-0500
TZNAME:EST
DTSTART:20261101T060000
END:STANDARD
END:VTIMEZONE
BEGIN:VEVENT
DTSTART;TZID=America/Toronto:20251107T120000
DTEND;TZID=America/Toronto:20251107T130000
DTSTAMP:20260421T073610
CREATED:20250317T185911Z
LAST-MODIFIED:20250922T184538Z
UID:11097-1762516800-1762520400@caccn.ca
SUMMARY:Webinaire:  Comprendre et utiliser la thérapie nasale à haut débit
DESCRIPTION:Sponsorisé par Fisher and Paykel Healthcare:   \n\n\n\nComprendre les mécanismes d’action du haut débit nasal chez les patients adultes.✓ Revoir les applications cliniques appuyées par les données probantes les plus récentes.✓ Identifier les patients qui pourraient bénéficier de la thérapie nasale à haut débit.
URL:https://caccn.ca/event/webinaire-comprendre-et-utiliser-la-therapie-nasale-a-haut-debit/
END:VEVENT
BEGIN:VEVENT
DTSTART;TZID=America/Toronto:20251114T080000
DTEND;TZID=America/Toronto:20251114T170000
DTSTAMP:20260421T073610
CREATED:20251015T171608Z
LAST-MODIFIED:20251015T171610Z
UID:12271-1763107200-1763139600@caccn.ca
SUMMARY:The Power of a Song in Dementia Care
DESCRIPTION:Come see and feel the power of music \n\n\n\nThe MUSIC CARE CONFERENCE is a national conference bringing together community members who are interested in music and care. This educational and inspirational conference identifies and integrates common themes and issues using music across the care spectrum and highlights the social and wellness implications of music in care.
URL:https://caccn.ca/event/the-power-of-a-song-in-dementia-care/
END:VEVENT
BEGIN:VEVENT
DTSTART;TZID=America/Toronto:20251125T120000
DTEND;TZID=America/Toronto:20251125T130000
DTSTAMP:20260421T073610
CREATED:20241212T145721Z
LAST-MODIFIED:20251008T190739Z
UID:10107-1764072000-1764075600@caccn.ca
SUMMARY:Webinar:  From chaos to clarity: The therapeutic potential of journals and diaries to recall the ICU journey.
DESCRIPTION:Members Only Webinar:  Critical care diaries and journals are significantly underutilized in the clinical setting and yet provide significant therapeutic benefit. Applicable to all critical care areas and demographics\, the benefits of this creative outlet for both families and patients has been explored greatly. This presentation will summarize the evidence behind encouragement of journaling during the critical illness experience; educate about positive outcomes for patients\, families\, and care teams; identify barriers to implementation; and provide project implementation strategies for units and families at all accessibility and budget levels.
URL:https://caccn.ca/event/from-chaos-to-clarity-the-therapeutic-potential-of-journals-and-diaries-to-recall-the-icu-journey/
END:VEVENT
END:VCALENDAR