BEGIN:VCALENDAR
VERSION:2.0
PRODID:-//CACCN - ECPv6.15.20//NONSGML v1.0//EN
CALSCALE:GREGORIAN
METHOD:PUBLISH
X-WR-CALNAME:CACCN
X-ORIGINAL-URL:https://caccn.ca
X-WR-CALDESC:Events for CACCN
REFRESH-INTERVAL;VALUE=DURATION:PT1H
X-Robots-Tag:noindex
X-PUBLISHED-TTL:PT1H
BEGIN:VTIMEZONE
TZID:America/Toronto
BEGIN:DAYLIGHT
TZOFFSETFROM:-0500
TZOFFSETTO:-0400
TZNAME:EDT
DTSTART:20240310T070000
END:DAYLIGHT
BEGIN:STANDARD
TZOFFSETFROM:-0400
TZOFFSETTO:-0500
TZNAME:EST
DTSTART:20241103T060000
END:STANDARD
BEGIN:DAYLIGHT
TZOFFSETFROM:-0500
TZOFFSETTO:-0400
TZNAME:EDT
DTSTART:20250309T070000
END:DAYLIGHT
BEGIN:STANDARD
TZOFFSETFROM:-0400
TZOFFSETTO:-0500
TZNAME:EST
DTSTART:20251102T060000
END:STANDARD
BEGIN:DAYLIGHT
TZOFFSETFROM:-0500
TZOFFSETTO:-0400
TZNAME:EDT
DTSTART:20260308T070000
END:DAYLIGHT
BEGIN:STANDARD
TZOFFSETFROM:-0400
TZOFFSETTO:-0500
TZNAME:EST
DTSTART:20261101T060000
END:STANDARD
END:VTIMEZONE
BEGIN:VEVENT
DTSTART;TZID=America/Toronto:20251001T160000
DTEND;TZID=America/Toronto:20251001T160000
DTSTAMP:20260421T060456
CREATED:20250619T113803Z
LAST-MODIFIED:20250623T101919Z
UID:11682-1759334400-1759334400@caccn.ca
SUMMARY:CACCN Board Nominations Close
DESCRIPTION:CACCN Board of Director Nominations Close
URL:https://caccn.ca/event/caccn-board-nominations-close/
END:VEVENT
BEGIN:VEVENT
DTSTART;TZID=America/Toronto:20251007T080000
DTEND;TZID=America/Toronto:20251010T170000
DTSTAMP:20260421T060456
CREATED:20250728T185745Z
LAST-MODIFIED:20250728T185748Z
UID:11810-1759824000-1760115600@caccn.ca
SUMMARY:World Congress of Critical Nursing
DESCRIPTION:Mexican Association of Critical Nursing and Intensive Therapy (AMEEMCTI) is proud to invite you to the World Congress of Critical Nursing\, taking place on October 7\, 8\, 9\, and 10\, 2025\, in the beautiful city and port of Acapulco\, Mexico. \n\n\n\nThis global event will bring together nursing professionals\, researchers\, and healthcare leaders from around the world to share knowledge\, best practices\, and innovations in critical and intensive care nursing.
URL:https://caccn.ca/event/world-congress-of-critical-nursing/
ORGANIZER;CN="Mexican Association of Critical Nursing and Intensive Therapy (AMEEMCTI)":MAILTO:presidenciaameemcti22.23@gmail.com
END:VEVENT
BEGIN:VEVENT
DTSTART;TZID=America/Toronto:20251009T120000
DTEND;TZID=America/Toronto:20251009T130000
DTSTAMP:20260421T060456
CREATED:20241212T145506Z
LAST-MODIFIED:20250609T132154Z
UID:10105-1760011200-1760014800@caccn.ca
SUMMARY:CACCN Webinar - TBD
DESCRIPTION:Members Only Webinar: description to follow
URL:https://caccn.ca/event/caccn-o-lab-simulation/
END:VEVENT
BEGIN:VEVENT
DTSTART;TZID=America/Toronto:20251010T080000
DTEND;TZID=America/Toronto:20251011T170000
DTSTAMP:20260421T060456
CREATED:20250105T120249Z
LAST-MODIFIED:20250123T152611Z
UID:10280-1760083200-1760202000@caccn.ca
SUMMARY:2025 World Critical Care & Anesthesiology Conference (2025WCAC) 
DESCRIPTION:Hybrid Event: Our focus is to bring together leading experts\, researchers\, and the most respected clinicians to exchange and share their meaningful experiences of various treatment procedures on Radiology\, Medical Imaging and Breast Imaging etc. We are highly interested in a mutual collaboration between the 2025 World Critical Care & Anesthesiology Conference (2025WCAC) and the “2025 SAR Program”.
URL:https://caccn.ca/event/2025-world-critical-care-anesthesiology-conference-2025wcac/
END:VEVENT
BEGIN:VEVENT
DTSTART;TZID=America/Toronto:20251019T000000
DTEND;TZID=America/Toronto:20251025T235959
DTSTAMP:20260421T060456
CREATED:20241212T150615Z
LAST-MODIFIED:20250623T102012Z
UID:10115-1760832000-1761436799@caccn.ca
SUMMARY:Canadian Intensive Care Week
DESCRIPTION:Celebrate….the Intensive Care Team – there for YOU in critical moments
URL:https://caccn.ca/event/canadian-intensive-care-week-3/
END:VEVENT
BEGIN:VEVENT
DTSTART;TZID=America/Toronto:20251020T080000
DTEND;TZID=America/Toronto:20251021T170000
DTSTAMP:20260421T060456
CREATED:20250623T102434Z
LAST-MODIFIED:20251008T190555Z
UID:11744-1760947200-1761066000@caccn.ca
SUMMARY:CICU Week Educational Event - Cancelled
DESCRIPTION:Get ready to Reimagine\, Redefine & Reinspire  at  the Canadian Intensive Care Week Educational Event being hosted by the Canadian Association of Critical Care Nurses (CACCN) with our sponsors Canadian Blood Services\,  Vantive and Spacelabs Healthcare!  Light morning break\, lunch provided for onsite attendees.
URL:https://caccn.ca/event/cicu-week-educational-event/
END:VEVENT
BEGIN:VEVENT
DTSTART;TZID=America/Toronto:20251021T120000
DTEND;TZID=America/Toronto:20251021T190000
DTSTAMP:20260421T060456
CREATED:20250922T184232Z
LAST-MODIFIED:20251008T190845Z
UID:12086-1761048000-1761073200@caccn.ca
SUMMARY:Interior Health Virtual Career Fair
DESCRIPTION:We are offering one-to-one sessions with our knowledgeable recruiters. If you are an experienced nurse\, or looking to begin your career in nursing\, and you meet the minimum requirements of the position\, register today!
URL:https://caccn.ca/event/interior-health-virtual-career-fair/
END:VEVENT
BEGIN:VEVENT
DTSTART;TZID=America/Toronto:20251027T080000
DTEND;TZID=America/Toronto:20251028T170000
DTSTAMP:20260421T060456
CREATED:20250120T103634Z
LAST-MODIFIED:20250123T152516Z
UID:10413-1761552000-1761670800@caccn.ca
SUMMARY:4th Euro Anesthesiology and Critical Care Congress (Hybrid)
DESCRIPTION:
URL:https://caccn.ca/event/4th-euro-anesthesiology-and-critical-care-congress-hybrid/
END:VEVENT
BEGIN:VEVENT
DTSTART;TZID=America/Toronto:20251030T120000
DTEND;TZID=America/Toronto:20251030T130000
DTSTAMP:20260421T060456
CREATED:20250312T185044Z
LAST-MODIFIED:20251008T190803Z
UID:11043-1761825600-1761829200@caccn.ca
SUMMARY:Webinar: Understanding and Utilizing Nasal High Flow Therapy
DESCRIPTION:This educational webinar will provide a review of nasal high flow therapy in theICU and critical care setting: Understand the mechanisms of action of nasal high flow in adult patients\, review clinical applications supported by the latest evidence and identify patients who could benefit from nasal high flow therapy.  Sponsored by Fisher & Paykel Healthcare.
URL:https://caccn.ca/event/understanding-and-utilizing-nasal-high-flow-therapy/
END:VEVENT
BEGIN:VEVENT
DTSTART;TZID=America/Toronto:20251030T160000
DTEND;TZID=America/Toronto:20251030T160000
DTSTAMP:20260421T060456
CREATED:20250619T114146Z
LAST-MODIFIED:20251008T190919Z
UID:11684-1761840000-1761840000@caccn.ca
SUMMARY:CACCN Annual General Meeting of the Members
DESCRIPTION:Annual General Meeting of the members will be held on Zoom from 4:00 pm to 5:00 pm on October 30.  For more information\, agenda\, proxy vote forms and the registration link visit Annual General Meeting.
URL:https://caccn.ca/event/caccn-annual-general-meeting-of-the-members/
END:VEVENT
END:VCALENDAR