BEGIN:VCALENDAR
VERSION:2.0
PRODID:-//CACCN - ECPv6.15.20//NONSGML v1.0//EN
CALSCALE:GREGORIAN
METHOD:PUBLISH
X-WR-CALNAME:CACCN
X-ORIGINAL-URL:https://caccn.ca
X-WR-CALDESC:Events for CACCN
REFRESH-INTERVAL;VALUE=DURATION:PT1H
X-Robots-Tag:noindex
X-PUBLISHED-TTL:PT1H
BEGIN:VTIMEZONE
TZID:America/Toronto
BEGIN:DAYLIGHT
TZOFFSETFROM:-0500
TZOFFSETTO:-0400
TZNAME:EDT
DTSTART:20220313T070000
END:DAYLIGHT
BEGIN:STANDARD
TZOFFSETFROM:-0400
TZOFFSETTO:-0500
TZNAME:EST
DTSTART:20221106T060000
END:STANDARD
BEGIN:DAYLIGHT
TZOFFSETFROM:-0500
TZOFFSETTO:-0400
TZNAME:EDT
DTSTART:20230312T070000
END:DAYLIGHT
BEGIN:STANDARD
TZOFFSETFROM:-0400
TZOFFSETTO:-0500
TZNAME:EST
DTSTART:20231105T060000
END:STANDARD
BEGIN:DAYLIGHT
TZOFFSETFROM:-0500
TZOFFSETTO:-0400
TZNAME:EDT
DTSTART:20240310T070000
END:DAYLIGHT
BEGIN:STANDARD
TZOFFSETFROM:-0400
TZOFFSETTO:-0500
TZNAME:EST
DTSTART:20241103T060000
END:STANDARD
BEGIN:DAYLIGHT
TZOFFSETFROM:-0500
TZOFFSETTO:-0400
TZNAME:EDT
DTSTART:20250309T070000
END:DAYLIGHT
BEGIN:STANDARD
TZOFFSETFROM:-0400
TZOFFSETTO:-0500
TZNAME:EST
DTSTART:20251102T060000
END:STANDARD
END:VTIMEZONE
BEGIN:VEVENT
DTSTART;TZID=America/Toronto:20241028T080000
DTEND;TZID=America/Toronto:20241029T170000
DTSTAMP:20260419T224136
CREATED:20240508T101444Z
LAST-MODIFIED:20240508T102221Z
UID:8424-1730102400-1730221200@caccn.ca
SUMMARY:3rd Euro Anesthesiology & Critical Care Congress (Hybrid)
DESCRIPTION:3rd Euro Anesthesiology and Critical Care Congress focuses on improving the quality of patient care by innovation and advancements in the use of technology and its application.
URL:https://caccn.ca/event/3rd-euro-anesthesiology-and-critical-care-congress-hybrid/
END:VEVENT
BEGIN:VEVENT
DTSTART;TZID=America/Toronto:20241024T160000
DTEND;TZID=America/Toronto:20241024T183000
DTSTAMP:20260419T224136
CREATED:20231101T103319Z
LAST-MODIFIED:20240104T170754Z
UID:7330-1729785600-1729794600@caccn.ca
SUMMARY:Annual General Meeting/Webinar - Members Only
DESCRIPTION:Join us for the annual meeting of the membership where we share and discuss the Association’s business\, followed by a webinar (to be determined). Members Only!  AGM Information \n\n\n\nNot a member?  Join Us
URL:https://caccn.ca/event/annual-general-meeting-webinar/
END:VEVENT
BEGIN:VEVENT
DTSTART;TZID=America/Toronto:20241018T000000
DTEND;TZID=America/Toronto:20241019T235959
DTSTAMP:20260419T224136
CREATED:20240515T111110Z
LAST-MODIFIED:20240515T111120Z
UID:8479-1729209600-1729382399@caccn.ca
SUMMARY:2024 World Critical Care & Anesthesiology Conference (2024WCAC)
DESCRIPTION:Our conference aims to bring together renowned experts\, clinicians\, researchers\, and industry professionals in the field of Critical care and anesthesiology. It promises to be an exceptional event filled with enriching educational sessions\, thought-provoking discussions\, and networking opportunities. \n\n\n\nLocation: ANA Crowne Plaza Osaka\, Japan
URL:https://caccn.ca/event/2024-world-critical-care-anesthesiology-conference-2024wcac/
END:VEVENT
BEGIN:VEVENT
DTSTART;TZID=America/Toronto:20241010T120000
DTEND;TZID=America/Toronto:20241010T130000
DTSTAMP:20260419T224136
CREATED:20231101T102800Z
LAST-MODIFIED:20240508T104303Z
UID:7325-1728561600-1728565200@caccn.ca
SUMMARY:Webinar Burns
DESCRIPTION:Burns – Session 3 in the four part 2024 Paula Price Memorial Educational Series – Members Only! Presenter: to be detertmined. Watch for registration to open. \n\n\n\nNot a member? Join us!
URL:https://caccn.ca/event/critical-care-conundrums-session-3-members-only/
END:VEVENT
BEGIN:VEVENT
DTSTART;TZID=America/Toronto:20240923T080000
DTEND;TZID=America/Toronto:20240925T170000
DTSTAMP:20260419T224136
CREATED:20231121T123042Z
LAST-MODIFIED:20231121T123118Z
UID:7593-1727078400-1727283600@caccn.ca
SUMMARY:Cdn Critical Care Nursing Conference 2024
DESCRIPTION:CACCN has been actively providing critical care education for 40 years!  We come together each year at the Canadian Critical Care Nursing Conference (formerly Dynamics of Critical Care) to Reimagine\, Redefine and Reinspire ourselves\, our careers\, our colleagues and nursing in Canada. The conference allows you to share and learn the latest on a multitude of topics\, and to hone your skills both clinical and professional through Fast & Focused\, Concurrent\, Mastery\, Plenary and Poster presentations. This national event also provides an excellent opportunity to network with nurses and interprofessional colleagues from across the country and abroad.  Come rekindle friendships\, start new friendships\, share ideas and have fun!
URL:https://caccn.ca/event/cdn-critical-care-nursing-conference-2024/
END:VEVENT
BEGIN:VEVENT
DTSTART;TZID=America/Toronto:20240922T173000
DTEND;TZID=America/Toronto:20240922T210000
DTSTAMP:20260419T224136
CREATED:20240705T105636Z
LAST-MODIFIED:20240705T105638Z
UID:9024-1727026200-1727038800@caccn.ca
SUMMARY:Baxter Dinner and Learn
DESCRIPTION:Dinner and Learn event sponsored by Baxter Corporation.
URL:https://caccn.ca/event/baxter-dinner-and-learn/
END:VEVENT
BEGIN:VEVENT
DTSTART;TZID=America/Toronto:20240922T110000
DTEND;TZID=America/Toronto:20240922T163000
DTSTAMP:20260419T224136
CREATED:20240705T105416Z
LAST-MODIFIED:20240705T105423Z
UID:9022-1727002800-1727022600@caccn.ca
SUMMARY:Baxter CRRT Powercourse
DESCRIPTION:For CRRT Trained Nurses attending the Canadian Critical Care Nursing Conference 2024.  This preconference offers an interactive learning experience featuring hands on learning\, an escape room and a variety of engaging discussions.
URL:https://caccn.ca/event/baxter-crrt-powercourse/
END:VEVENT
BEGIN:VEVENT
DTSTART;TZID=America/Toronto:20240920T080000
DTEND;TZID=America/Toronto:20240921T170000
DTSTAMP:20260419T224136
CREATED:20240705T110056Z
LAST-MODIFIED:20240705T110116Z
UID:9030-1726819200-1726938000@caccn.ca
SUMMARY:Board of Director Meetings
DESCRIPTION:
URL:https://caccn.ca/event/board-of-director-meetings/
END:VEVENT
BEGIN:VEVENT
DTSTART;TZID=America/Toronto:20240712T080000
DTEND;TZID=America/Toronto:20240726T170000
DTSTAMP:20260419T224136
CREATED:20240705T105913Z
LAST-MODIFIED:20240705T105916Z
UID:9027-1720771200-1722013200@caccn.ca
SUMMARY:CACCN: Office closed
DESCRIPTION:Our office will be closed July 12 to 26 inclusive for staff vacation.  We will not have email or telephone access during this time.
URL:https://caccn.ca/event/caccn-office-closed/
END:VEVENT
BEGIN:VEVENT
DTSTART;TZID=America/Toronto:20240620T120000
DTEND;TZID=America/Toronto:20240620T130000
DTSTAMP:20260419T224136
CREATED:20231031T222412Z
LAST-MODIFIED:20240508T104014Z
UID:7316-1718884800-1718888400@caccn.ca
SUMMARY:Journal Club - open to all!
DESCRIPTION:Come discuss the following article with us:  “Specialized inserters and pediatric peripheral intravenous attempt success: Prospective cohort”.  Authors: Tanya Spence and Laurie Lee. \n\n\n\nFacilitated by the Canadian Journal of Critical Care Nursing!   Not a member?  Join Us
URL:https://caccn.ca/event/cjccn-journal-club-open-to-all-2/
END:VEVENT
BEGIN:VEVENT
DTSTART;TZID=America/Toronto:20240611T160000
DTEND;TZID=America/Toronto:20240611T170000
DTSTAMP:20260419T224136
CREATED:20240508T101739Z
LAST-MODIFIED:20240508T104543Z
UID:8426-1718121600-1718125200@caccn.ca
SUMMARY:Webinar ICU Survivorship
DESCRIPTION:
URL:https://caccn.ca/event/webinar-icu-survivorship/
ORGANIZER;CN="Alberta Chapter":MAILTO:caccnalberta@caccn.ca
END:VEVENT
BEGIN:VEVENT
DTSTART;TZID=America/Toronto:20240606T120000
DTEND;TZID=America/Toronto:20240606T130000
DTSTAMP:20260419T224136
CREATED:20231031T222157Z
LAST-MODIFIED:20231113T110555Z
UID:7313-1717675200-1717678800@caccn.ca
SUMMARY:Critical Care Conundrums - Session 2 - Members Only
DESCRIPTION:Children are not little adults  – Session 2 in the four part 2024 Paula Price Memorial Educational Series – Members Only!  Presenter:  Karen Dryden-Palmer\, Hospital for Sick Children.  Watch for registration to open.  Not a member?  Join us!
URL:https://caccn.ca/event/critical-care-conundrums-session-2-members-only/
END:VEVENT
BEGIN:VEVENT
DTSTART;TZID=America/Toronto:20240604T080000
DTEND;TZID=America/Toronto:20240604T170000
DTSTAMP:20260419T224136
CREATED:20240508T102955Z
LAST-MODIFIED:20240508T104054Z
UID:8438-1717488000-1717520400@caccn.ca
SUMMARY:London Chapter Education Day
DESCRIPTION:CACCN London Regional Chapter and the CVAA Southwestern Chapter are holding a Spring Education Day. The education day will welcome registered nurses\, nurse practitioners\, educators\, faculty\, nursing students\, allied healthcare and those interested in critical care nursing.
URL:https://caccn.ca/event/caccn-london-chapter-education-day/
END:VEVENT
BEGIN:VEVENT
DTSTART;TZID=America/Toronto:20240524T080000
DTEND;TZID=America/Toronto:20240525T170000
DTSTAMP:20260419T224136
CREATED:20240104T170517Z
LAST-MODIFIED:20240104T170518Z
UID:7808-1716537600-1716656400@caccn.ca
SUMMARY:CCCN Conference 2024
DESCRIPTION:The 2024 Annual CCCN Spring Conference “Update Your Cardiovascular Nursing Toolkit” will be taking place Friday May 24th and Saturday May 25th\, 2024 in Calgary\, AB.
URL:https://caccn.ca/event/cccn-conference-2024/
END:VEVENT
BEGIN:VEVENT
DTSTART;TZID=America/Toronto:20240523T150000
DTEND;TZID=America/Toronto:20240523T160000
DTSTAMP:20260419T224136
CREATED:20240508T103806Z
LAST-MODIFIED:20240508T104357Z
UID:8440-1716476400-1716480000@caccn.ca
SUMMARY:Webinar Neuroprognostication After Cardiac Arrest
DESCRIPTION:Register by emailing caccnalberta@caccn.ca
URL:https://caccn.ca/event/neuroprognostication-after-cardiac-arrest/
END:VEVENT
BEGIN:VEVENT
DTSTART;TZID=America/Toronto:20240523T120000
DTEND;TZID=America/Toronto:20240523T130000
DTSTAMP:20260419T224136
CREATED:20231031T221924Z
LAST-MODIFIED:20231130T123622Z
UID:7309-1716465600-1716469200@caccn.ca
SUMMARY:CoPs - Nurse Managers - Open Forum - open to all!
DESCRIPTION:Webinar:  CACCN Communities of Practice – Clinical Nurse Educators. Open to members and non-members.  For more information: CACCN Communities of Practice.
URL:https://caccn.ca/event/cops-nurse-managers-open-to-all/
END:VEVENT
BEGIN:VEVENT
DTSTART;TZID=America/Toronto:20240424T080000
DTEND;TZID=America/Toronto:20240426T170000
DTSTAMP:20260419T224136
CREATED:20240104T170327Z
LAST-MODIFIED:20240104T170400Z
UID:7804-1713945600-1714150800@caccn.ca
SUMMARY:CVAA Conference 2024
DESCRIPTION:Winnipeg\, MB \n\n\n\nDelegate Registration to open January 8\, 2024.
URL:https://caccn.ca/event/cvaa-conference-2024/
END:VEVENT
BEGIN:VEVENT
DTSTART;TZID=America/Toronto:20240411T120000
DTEND;TZID=America/Toronto:20240411T130000
DTSTAMP:20260419T224136
CREATED:20231031T221514Z
LAST-MODIFIED:20231031T221515Z
UID:7305-1712836800-1712840400@caccn.ca
SUMMARY:CACCN Webinar - Members Only!
DESCRIPTION:Topic to be determined.  Not a member? Join Us
URL:https://caccn.ca/event/caccn-webinar-members-only-2/
END:VEVENT
BEGIN:VEVENT
DTSTART;TZID=America/Toronto:20240404T120000
DTEND;TZID=America/Toronto:20240404T130000
DTSTAMP:20260419T224136
CREATED:20231031T201027Z
LAST-MODIFIED:20231101T104046Z
UID:7297-1712232000-1712235600@caccn.ca
SUMMARY:CJCCN Journal Club
DESCRIPTION:Discuss an article with us!  Facilitated by the Canadian Journal of Critical Care Nursing! \n\n\n\nTopic to be determined. \n\n\n\nNot a member?  Join Us
URL:https://caccn.ca/event/cjccn-journal-club-open-to-all/
END:VEVENT
BEGIN:VEVENT
DTSTART;TZID=America/Toronto:20240321T120000
DTEND;TZID=America/Toronto:20240321T130000
DTSTAMP:20260419T224136
CREATED:20231031T200911Z
LAST-MODIFIED:20231130T123555Z
UID:7295-1711022400-1711026000@caccn.ca
SUMMARY:Joint Webinar - Spacelabs Healthcare - Members Only
DESCRIPTION:Collaboration with Spacelabs Healthcare.  Topic to be determined  Not a member?  Join us!
URL:https://caccn.ca/event/caccn-webinar-members-only/
END:VEVENT
BEGIN:VEVENT
DTSTART;TZID=America/Toronto:20240309T080000
DTEND;TZID=America/Toronto:20240310T170000
DTSTAMP:20260419T224136
CREATED:20240103T121849Z
LAST-MODIFIED:20240104T170106Z
UID:7761-1709971200-1710090000@caccn.ca
SUMMARY:World Critical Care & Anesthesiology Conference 2024 (WCAC24)
DESCRIPTION:The WCAC24 conference will be a hybrid model event allowing both virtual and in person participation.
URL:https://caccn.ca/event/world-critical-care-anesthesiology-conference-2024-wcac24/
END:VEVENT
BEGIN:VEVENT
DTSTART;TZID=America/Toronto:20240307T120000
DTEND;TZID=America/Toronto:20240307T130000
DTSTAMP:20260419T224136
CREATED:20231031T200202Z
LAST-MODIFIED:20231113T110515Z
UID:7284-1709812800-1709816400@caccn.ca
SUMMARY:Critical Care Conundrums - Session 1 - Members Only
DESCRIPTION:Obstetrical Emergencies  – Session 1 in the four part 2024 Paula Price Memorial Educational Series – Members Only!  Presenter:  Brenda L Morgan. Watch for registration to open.  Not a member?  Join us!
URL:https://caccn.ca/event/caccn-webinar-2/
END:VEVENT
BEGIN:VEVENT
DTSTART;TZID=America/Toronto:20240229T160000
DTEND;TZID=America/Toronto:20240229T160000
DTSTAMP:20260419T224136
CREATED:20231130T123159Z
LAST-MODIFIED:20231130T123200Z
UID:7614-1709222400-1709222400@caccn.ca
SUMMARY:Deadline - Call for Abstracts 2024
DESCRIPTION:The Canadian Association of Critical Care Nurses (CACCN) is now accepting abstract submissions for the Canadian Critical Care Nursing Conference 2024\, the premier Canadian national critical care nursing conference to be held at the Delta Regina\, Regina\, Saskatchewan from September 23 to 25\, 2024. Deadline: February 29\, 2024.
URL:https://caccn.ca/event/deadline-call-for-abstracts-2024/
END:VEVENT
BEGIN:VEVENT
DTSTART;TZID=America/Toronto:20240208T120000
DTEND;TZID=America/Toronto:20240208T130000
DTSTAMP:20260419T224136
CREATED:20231031T200055Z
LAST-MODIFIED:20231130T123341Z
UID:7282-1707393600-1707397200@caccn.ca
SUMMARY:CoPs - Clinical Nurse Educators - Open Forum - open to all!
DESCRIPTION:Webinar:  CACCN Communities of Practice – Clinical Nurse Educators. Open to members and non-members.  For more information: CACCN Communities of Practice. \n\n\n\nNot a member?  Join Us
URL:https://caccn.ca/event/cops-clinical-nurse-educators/
END:VEVENT
BEGIN:VEVENT
DTSTART;TZID=America/Toronto:20240125T120000
DTEND;TZID=America/Toronto:20240125T130000
DTSTAMP:20260419T224136
CREATED:20231031T195836Z
LAST-MODIFIED:20240104T165945Z
UID:7280-1706184000-1706187600@caccn.ca
SUMMARY:Writing for Publication
DESCRIPTION:Collaboration with Baxter Corporation.  Writing for Publication: Plan and outline an article that has the potential of being accepted for publication by the Canadian Journal of Critical Care Nursing (CJCCN).  Presenter: Asha Pereira\, Chief Editor\, CJCCN.  Session objectives: Identify key characteristics of a manuscript. Create an outline for your manuscript. Apply free writing and generative writing techniques. Format and structure the main sections of a standard journal article. Construct a plan to guide you to the completion of an entire manuscript. Begin to build a critical care nursing writing community of practice.
URL:https://caccn.ca/event/webinar-2/
END:VEVENT
BEGIN:VEVENT
DTSTART;TZID=America/Toronto:20240111T150000
DTEND;TZID=America/Toronto:20240111T160000
DTSTAMP:20260419T224136
CREATED:20240104T165734Z
LAST-MODIFIED:20240104T165800Z
UID:7798-1704985200-1704988800@caccn.ca
SUMMARY:Sepsis
DESCRIPTION:Webinar provided by the Alberta Chapter – email caccnalberta@caccn.ca to register
URL:https://caccn.ca/event/sepsis/
END:VEVENT
BEGIN:VEVENT
DTSTART;TZID=America/Toronto:20240111T120000
DTEND;TZID=America/Toronto:20240111T130000
DTSTAMP:20260419T224136
CREATED:20231031T195711Z
LAST-MODIFIED:20231113T110033Z
UID:7278-1704974400-1704978000@caccn.ca
SUMMARY:Enhancing Mental Health Awareness in Critical Care - Members Only
DESCRIPTION:This webinar will overview the Mental Health Commission of Canada’s training program called The Working Mind.  This program enhances mental health awareness by reducing stigmas and optimizing behaviors and attitudes towards people living with mental illness.  \n\n\n\nWatch for registration to open.  Not a member?  Join us!
URL:https://caccn.ca/event/enhancing-mental-health-awareness-in-critical-care-members-only-webinar/
END:VEVENT
BEGIN:VEVENT
DTSTART;TZID=America/Toronto:20240103T000000
DTEND;TZID=America/Toronto:20240103T235959
DTSTAMP:20260419T224136
CREATED:20231113T105835Z
LAST-MODIFIED:20231130T123257Z
UID:7490-1704240000-1704326399@caccn.ca
SUMMARY:Call for Reviewers & CCCNC2024 Committee Members opens
DESCRIPTION:The Canadian Critical Care Nursing Association (CACCN) is inviting interested CACCN members to serve on the Canadian Critical Care Nursing Conference 2024 Abstract Review Committee and the Local Operations Committee.  Deadline to apply: February 15\, 2024
URL:https://caccn.ca/event/call-for-volunteers/
END:VEVENT
BEGIN:VEVENT
DTSTART;TZID=America/Toronto:20240102T000000
DTEND;TZID=America/Toronto:20240102T235959
DTSTAMP:20260419T224136
CREATED:20231113T105701Z
LAST-MODIFIED:20231130T122859Z
UID:7488-1704153600-1704239999@caccn.ca
SUMMARY:CCCNC2024 Call for Abstracts open
DESCRIPTION:The Canadian Association of Critical Care Nurses (CACCN) is now accepting abstract submissions for the Canadian Critical Care Nursing Conference 2024\, the premier Canadian national critical care nursing conference to be held at the Delta Regina\, Regina\, Saskatchewan from September 23 to 25\, 2024.  Deadline: February 29\, 2024.
URL:https://caccn.ca/event/cccnc2024-call-for-abstracts-open/
END:VEVENT
BEGIN:VEVENT
DTSTART;TZID=America/Toronto:20231207T120000
DTEND;TZID=America/Toronto:20231207T130000
DTSTAMP:20260419T224136
CREATED:20230310T154954Z
LAST-MODIFIED:20231101T104952Z
UID:6431-1701950400-1701954000@caccn.ca
SUMMARY:Mentorship Series - Session 4: Panel Discussion
DESCRIPTION:Session 4 of the Paula Price Memorial Education Series 2023.   \n\n\n\nFacilitators: Brandi Vanderspank-Wright\, PhD\, RN\, CNCC(C)\, Associate professor\, School of Nursing\, University of Ottawa and Caroline Penner\, RN\, CNCC(C)\, Critical Care Program\, Learning Strategies and Innovations\, Fraser Health Authority.
URL:https://caccn.ca/event/mentorship-series-session-4-panel-discussion/
END:VEVENT
END:VCALENDAR