BEGIN:VCALENDAR
VERSION:2.0
PRODID:-//CACCN - ECPv6.15.20//NONSGML v1.0//EN
CALSCALE:GREGORIAN
METHOD:PUBLISH
X-WR-CALNAME:CACCN
X-ORIGINAL-URL:https://caccn.ca
X-WR-CALDESC:Events for CACCN
REFRESH-INTERVAL;VALUE=DURATION:PT1H
X-Robots-Tag:noindex
X-PUBLISHED-TTL:PT1H
BEGIN:VTIMEZONE
TZID:America/Toronto
BEGIN:DAYLIGHT
TZOFFSETFROM:-0500
TZOFFSETTO:-0400
TZNAME:EDT
DTSTART:20200308T070000
END:DAYLIGHT
BEGIN:STANDARD
TZOFFSETFROM:-0400
TZOFFSETTO:-0500
TZNAME:EST
DTSTART:20201101T060000
END:STANDARD
BEGIN:DAYLIGHT
TZOFFSETFROM:-0500
TZOFFSETTO:-0400
TZNAME:EDT
DTSTART:20210314T070000
END:DAYLIGHT
BEGIN:STANDARD
TZOFFSETFROM:-0400
TZOFFSETTO:-0500
TZNAME:EST
DTSTART:20211107T060000
END:STANDARD
BEGIN:DAYLIGHT
TZOFFSETFROM:-0500
TZOFFSETTO:-0400
TZNAME:EDT
DTSTART:20220313T070000
END:DAYLIGHT
BEGIN:STANDARD
TZOFFSETFROM:-0400
TZOFFSETTO:-0500
TZNAME:EST
DTSTART:20221106T060000
END:STANDARD
BEGIN:DAYLIGHT
TZOFFSETFROM:-0500
TZOFFSETTO:-0400
TZNAME:EDT
DTSTART:20230312T070000
END:DAYLIGHT
BEGIN:STANDARD
TZOFFSETFROM:-0400
TZOFFSETTO:-0500
TZNAME:EST
DTSTART:20231105T060000
END:STANDARD
END:VTIMEZONE
BEGIN:VEVENT
DTSTART;TZID=America/Toronto:20220513T080000
DTEND;TZID=America/Toronto:20220513T170000
DTSTAMP:20260419T142840
CREATED:20211223T122009Z
LAST-MODIFIED:20211223T122010Z
UID:4639-1652428800-1652461200@caccn.ca
SUMMARY:World PICU Day
DESCRIPTION:The World PICU Day.  The theme for WPAW 2022 will be “Families in the PICU”.
URL:https://caccn.ca/event/world-picu-day/
END:VEVENT
BEGIN:VEVENT
DTSTART;TZID=America/Toronto:20220512T120000
DTEND;TZID=America/Toronto:20220512T130000
DTSTAMP:20260419T142840
CREATED:20220420T174941Z
LAST-MODIFIED:20220420T180057Z
UID:5009-1652356800-1652360400@caccn.ca
SUMMARY:CACCN National Journal Club
DESCRIPTION:Join Brandi Vanderspank-Wright\, Vice-President\, CACCN for the National Journal Club during Nursing Week 2022.
URL:https://caccn.ca/event/caccn-national-journal-club/
END:VEVENT
BEGIN:VEVENT
DTSTART;TZID=America/Toronto:20220509T000000
DTEND;TZID=America/Toronto:20220509T235900
DTSTAMP:20260419T142840
CREATED:20211223T121546Z
LAST-MODIFIED:20211223T122131Z
UID:4636-1652054400-1652140740@caccn.ca
SUMMARY:World PICU Awareness Week 2022
DESCRIPTION:May 9 to May 13!   The World PICU Awareness Week Committee exists to raise awareness about #PedsICU in general and any important themes impacting the specialty by engaging members and key stakeholders in awareness and advocacy activities at a global and regional level.  This 7 day event culminates in World PICU Awareness Day on the 2nd Friday of May\, annually.  #WPAW2022 #WorldPICU2022
URL:https://caccn.ca/event/world-picu-awareness-week-2022/
END:VEVENT
BEGIN:VEVENT
DTSTART;TZID=America/Toronto:20220509T000000
DTEND;TZID=America/Toronto:20220509T235959
DTSTAMP:20260419T142840
CREATED:20211216T193608Z
LAST-MODIFIED:20220420T195546Z
UID:4626-1652054400-1652140799@caccn.ca
SUMMARY:National Nursing Week
DESCRIPTION:May 9 to May 15\, 2022.    \n\n\n\nThis week draws attention to nurses\, increasing the awareness of the public\, policy-makers and governments of the many contributions of nursing to the well-being of Canadians.
URL:https://caccn.ca/event/national-nursing-week/
END:VEVENT
BEGIN:VEVENT
DTSTART;TZID=America/Toronto:20220430T235900
DTEND;TZID=America/Toronto:20220430T235900
DTSTAMP:20260419T142840
CREATED:20211210T153854Z
LAST-MODIFIED:20220420T175321Z
UID:4564-1651363140-1651363140@caccn.ca
SUMMARY:Dynamics 2022 Call for Abstracts Deadline
DESCRIPTION:Due to the ongoing COVID19 pandemic\, the deadline for abstract submissionis extended from February 15 to April 30\, 2022.
URL:https://caccn.ca/event/call-for-abstracts-deadline/
END:VEVENT
BEGIN:VEVENT
DTSTART;TZID=America/Toronto:20220427T100000
DTEND;TZID=America/Toronto:20220429T160000
DTSTAMP:20260419T142840
CREATED:20220218T005219Z
LAST-MODIFIED:20220218T005246Z
UID:4861-1651053600-1651248000@caccn.ca
SUMMARY:CVAA Conference
DESCRIPTION:There is a lot of crossover between critical care and vascular access.  The CVAA is offering a 20% discount to CACCN members to attend their national virtual conference.  Visit CACCN Members Only for the discount code!
URL:https://caccn.ca/event/cvaa-conference/
END:VEVENT
BEGIN:VEVENT
DTSTART;TZID=America/Toronto:20220319T000000
DTEND;TZID=America/Toronto:20220319T235959
DTSTAMP:20260419T142840
CREATED:20211216T193213Z
LAST-MODIFIED:20211216T193214Z
UID:4624-1647648000-1647734399@caccn.ca
SUMMARY:Certified Nurses Day
DESCRIPTION:Certified Nurses Day\, celebrated annually on March 19\, shines a well-deserved spotlight on nurses who have chosen to enhance their professional knowledge through certification. The complexity of the nursing field is ever-growing and nurses strive for professional excellence and superior patient care in their desire to become certified. Today\, we thank and recognize the work these nurses have done to obtain their professional certification.
URL:https://caccn.ca/event/certified-nurses-day/
END:VEVENT
BEGIN:VEVENT
DTSTART;TZID=America/Toronto:20220224T130000
DTEND;TZID=America/Toronto:20220224T130000
DTSTAMP:20260419T142840
CREATED:20220218T010342Z
LAST-MODIFIED:20220218T010347Z
UID:4867-1645707600-1645707600@caccn.ca
SUMMARY:Using Best Practice Guidelines to Support Diversity\, Equity and Inclusion
DESCRIPTION:This webinar is designed for all health-care professionals to hear how one team has developed\, supported\, and implemented a diversity\, equity\, and inclusion plan. By creating this plan\,they truly aspire to improve their team members and client experience.
URL:https://caccn.ca/event/using-best-practice-guidelines-to-support-diversity-equity-and-inclusion/
END:VEVENT
BEGIN:VEVENT
DTSTART;TZID=America/Toronto:20220224T080000
DTEND;TZID=America/Toronto:20220225T170000
DTSTAMP:20260419T142840
CREATED:20220118T213100Z
LAST-MODIFIED:20220118T213628Z
UID:4727-1645689600-1645808400@caccn.ca
SUMMARY:Critical Care Infectious Diseases Network’s Symposium
DESCRIPTION:
URL:https://caccn.ca/event/critical-care-infectious-diseases-networks-symposium/
END:VEVENT
BEGIN:VEVENT
DTSTART;TZID=America/Toronto:20220222T140000
DTEND;TZID=America/Toronto:20220222T140000
DTSTAMP:20260419T142840
CREATED:20220218T005811Z
LAST-MODIFIED:20220218T010608Z
UID:4863-1645538400-1645538400@caccn.ca
SUMMARY:Professional Practice in Critical Care Nursing:   An ICU Unit Council
DESCRIPTION:Ottawa Region Chapter Webinar
URL:https://caccn.ca/event/ottawa-region-chapter-webinar/
END:VEVENT
BEGIN:VEVENT
DTSTART;TZID=America/Toronto:20220208T000000
DTEND;TZID=America/Toronto:20220210T235959
DTSTAMP:20260419T142840
CREATED:20211216T192650Z
LAST-MODIFIED:20211216T192651Z
UID:4621-1644278400-1644537599@caccn.ca
SUMMARY:Healing Healthcare Summit
DESCRIPTION:Join your colleagues and @MindfulOnline for the Healing Healthcare Summit Feb 8-10\, a free online event supporting healthcare professionals. Join us to envision a new path forward for the healthcare industry.  #healinghealthcare2022
URL:https://caccn.ca/event/healing-healthcare-summit/
END:VEVENT
BEGIN:VEVENT
DTSTART;TZID=America/Toronto:20220131T000000
DTEND;TZID=America/Toronto:20220131T235959
DTSTAMP:20260419T142840
CREATED:20211213T185805Z
LAST-MODIFIED:20220111T214236Z
UID:4590-1643587200-1643673599@caccn.ca
SUMMARY:Call for Abstracts Deadline extended!
DESCRIPTION:Due to the ongoing COVID19 pandemic\, the deadline for abstract submissionis extended from February 15 to March 31\, 2022.
URL:https://caccn.ca/event/call-for-abstracts-deadline-coming-soon/
END:VEVENT
BEGIN:VEVENT
DTSTART;TZID=America/Toronto:20220118T120000
DTEND;TZID=America/Toronto:20220118T130000
DTSTAMP:20260419T142840
CREATED:20211208T151746Z
LAST-MODIFIED:20211213T191139Z
UID:4552-1642507200-1642510800@caccn.ca
SUMMARY:Reflections - Stories from Canadian Critical Care Nurses - Members Only Event
DESCRIPTION:Join your CACCN colleagues to share stories as we Reflect\, Rebuild and Create Resiliency
URL:https://caccn.ca/event/reflections-stories-from-canadian-critical-care-nurses-members-only-event/
LOCATION:Online
END:VEVENT
BEGIN:VEVENT
DTSTART;TZID=America/Toronto:20220113T000000
DTEND;TZID=America/Toronto:20220113T235959
DTSTAMP:20260419T142840
CREATED:20211213T191456Z
LAST-MODIFIED:20211213T191457Z
UID:4609-1642032000-1642118399@caccn.ca
SUMMARY:CNA Certification - Renewal Opens
DESCRIPTION:You can either write the examination or renew by continuous learning between January 13 and November 1\, 2022
URL:https://caccn.ca/event/cna-certification-renewal-opens/
END:VEVENT
BEGIN:VEVENT
DTSTART;TZID=America/Toronto:20220113T000000
DTEND;TZID=America/Toronto:20220113T235959
DTSTAMP:20260419T142840
CREATED:20211213T190410Z
LAST-MODIFIED:20211213T190942Z
UID:4594-1642032000-1642118399@caccn.ca
SUMMARY:CNA Certification Spring Exam Applications Open
DESCRIPTION:Looking to write the CNA Certification Exam – applications open January 13\, 2022 and close March 7\, 2022.  Exam writing window – May 1 to 15 with results in June 2022.
URL:https://caccn.ca/event/cna-certification-spring-exam-applications-open/
END:VEVENT
BEGIN:VEVENT
DTSTART;TZID=America/Toronto:20220110T000000
DTEND;TZID=America/Toronto:20220110T235959
DTSTAMP:20260419T142840
CREATED:20211213T190033Z
LAST-MODIFIED:20211213T190927Z
UID:4592-1641772800-1641859199@caccn.ca
SUMMARY:Call for Abstracts - Don't forget to submit by February 15!
DESCRIPTION:
URL:https://caccn.ca/event/call-for-abstracts-dont-forget-to-submit-by-february-15/
END:VEVENT
BEGIN:VEVENT
DTSTART;TZID=America/Toronto:20220104T080000
DTEND;TZID=America/Toronto:20220104T160000
DTSTAMP:20260419T142840
CREATED:20211213T185536Z
LAST-MODIFIED:20211213T185537Z
UID:4588-1641283200-1641312000@caccn.ca
SUMMARY:Happy New Year!
DESCRIPTION:Our office is open after the holidays!  Wishing everyone a happy new year!
URL:https://caccn.ca/event/happy-new-year/
END:VEVENT
BEGIN:VEVENT
DTSTART;TZID=America/Toronto:20211220T000000
DTEND;TZID=America/Toronto:20220103T235959
DTSTAMP:20260419T142840
CREATED:20211210T190843Z
LAST-MODIFIED:20211213T185443Z
UID:4574-1639958400-1641254399@caccn.ca
SUMMARY:Happy Holidays - our office is closed
DESCRIPTION:Our office will be closed for the holiday season.  We will be unable to respond to email and telephone messages during this time.
URL:https://caccn.ca/event/happy-holidays-our-office-is-closed/
END:VEVENT
BEGIN:VEVENT
DTSTART;TZID=America/Toronto:20211112T000000
DTEND;TZID=America/Toronto:20211112T235959
DTSTAMP:20260419T142840
CREATED:20210915T191906Z
LAST-MODIFIED:20210915T191907Z
UID:4237-1636675200-1636761599@caccn.ca
SUMMARY:Office Closed
DESCRIPTION:
URL:https://caccn.ca/event/office-closed-2/
END:VEVENT
BEGIN:VEVENT
DTSTART;TZID=America/Toronto:20211111T000000
DTEND;TZID=America/Toronto:20211111T235959
DTSTAMP:20260419T142840
CREATED:20210915T191745Z
LAST-MODIFIED:20210915T191824Z
UID:4235-1636588800-1636675199@caccn.ca
SUMMARY:Remembrance Day - Office Closed
DESCRIPTION:
URL:https://caccn.ca/event/remembrance-day-office-closed/
END:VEVENT
BEGIN:VEVENT
DTSTART;TZID=America/Toronto:20211104T100000
DTEND;TZID=America/Toronto:20211104T160000
DTSTAMP:20260419T142840
CREATED:20210915T144446Z
LAST-MODIFIED:20210915T144446Z
UID:4192-1636020000-1636041600@caccn.ca
SUMMARY:Aspire Conference: Reignite
DESCRIPTION:Central Ontario Chapter Aspire Conference: Reignite via Zoom.  Five CL hours. Topics: STEMI mimics\, Moral Distress\, ICU RN Mentorship and more…
URL:https://caccn.ca/event/aspire-conference-reignite/
LOCATION:Zoom
END:VEVENT
BEGIN:VEVENT
DTSTART;TZID=America/Toronto:20211101T000000
DTEND;TZID=America/Toronto:20211115T235959
DTSTAMP:20260419T142840
CREATED:20210915T152352Z
LAST-MODIFIED:20210915T192555Z
UID:4206-1635724800-1637020799@caccn.ca
SUMMARY:Certification Examination Writing Window
DESCRIPTION:To become certified for the first time (initial certification)\, you must pass the exam. – See more at: https://www.cna-aiic.ca/en/certification/get-certified#sthash.aqJJQ9zL.dpuf
URL:https://caccn.ca/event/certification-examination-writing-window/
END:VEVENT
BEGIN:VEVENT
DTSTART;TZID=America/Toronto:20211101T000000
DTEND;TZID=America/Toronto:20211101T235959
DTSTAMP:20260419T142840
CREATED:20210915T152217Z
LAST-MODIFIED:20210915T152218Z
UID:4204-1635724800-1635811199@caccn.ca
SUMMARY:Certification Renewal Applications Close
DESCRIPTION:Your CNA certification is valid for a five-year term. You can renew your certification credential either by submitting a list of continuous learning activities or by rewriting the certification exam. You must also meet the eligibility requirements and continue to be a practising nurse in good standing.
URL:https://caccn.ca/event/certification-renewal-applications-close/
END:VEVENT
BEGIN:VEVENT
DTSTART;TZID=America/Toronto:20211031T000000
DTEND;TZID=America/Toronto:20211031T235959
DTSTAMP:20260419T142840
CREATED:20210915T152728Z
LAST-MODIFIED:20210915T152729Z
UID:4210-1635638400-1635724799@caccn.ca
SUMMARY:Dynamics 2020 Access Closes
DESCRIPTION:Time is ticking down…20+ hours of education. Finish watching the presentations\, complete the session evaluations and the overall evaluation to download your Continuing Learning Hours Certificate before the deadline.
URL:https://caccn.ca/event/dynamics-2020-access-closes/
END:VEVENT
BEGIN:VEVENT
DTSTART;TZID=America/Toronto:20211027T160000
DTEND;TZID=America/Toronto:20211027T190000
DTSTAMP:20260419T142840
CREATED:20210915T151305Z
LAST-MODIFIED:20210915T151306Z
UID:4200-1635350400-1635361200@caccn.ca
SUMMARY:CACCN Annual General Meeting
DESCRIPTION:Electronic Format: Zoom. Registration is required by October 22 @ 2359 hrs ET \n\n\n\n(find your time zone) \n\n\n\nFollowing the AGM\, stay for the webinar presentation – “Empathic Strain & Secondary Trauma 101: Understanding the Essentials During Times of Crisis”  (60 minutes + 15 minutes Q&A) \n\n\n\nVisit the AGM webpage for more information
URL:https://caccn.ca/event/caccn-annual-general-meeting/
END:VEVENT
BEGIN:VEVENT
DTSTART;TZID=America/Toronto:20211024T120000
DTEND;TZID=America/Toronto:20211030T120000
DTSTAMP:20260419T142840
CREATED:20210915T151606Z
LAST-MODIFIED:20210915T151608Z
UID:4202-1635076800-1635595200@caccn.ca
SUMMARY:Canadian Intensive Care Week
DESCRIPTION:Canadian Intensive Care Week is a week to reflect on our practice\, promote the work we do\, promote our workplace\, acknowledge our co-workers and celebrate the Intensive Care Team!
URL:https://caccn.ca/event/canadian-intensive-care-week/
END:VEVENT
BEGIN:VEVENT
DTSTART;TZID=America/Toronto:20211019T140000
DTEND;TZID=America/Toronto:20211019T150000
DTSTAMP:20260419T142840
CREATED:20210915T155603Z
LAST-MODIFIED:20210915T155605Z
UID:4232-1634652000-1634655600@caccn.ca
SUMMARY:Webinar: Safe Patient Handling for the Emergency Department
DESCRIPTION:Caregivers in the Healthcare Industry continue to be one of the most at risk groups for occupational musculoskeletal disorders. Each year when the Bureau of Labor Statistics publishes occupational injury incidence rates\, caregivers in Health Care remain near or at the top of the list. Awareness to this ongoing problem is growing\, however effective solutions need to be investigated and implemented. This presentation will consider caregivers in Emergency Departments and explore the occupational risks they face each day. Risk factors will be identified and discussed. Strategies for finding solutions will be presented with examples of specific solutions suggested.
URL:https://caccn.ca/event/webinar-safe-patient-handling-for-the-emergency-department-2/
END:VEVENT
BEGIN:VEVENT
DTSTART;TZID=America/Toronto:20211019T110000
DTEND;TZID=America/Toronto:20211019T120000
DTSTAMP:20260419T142840
CREATED:20210915T155429Z
LAST-MODIFIED:20210915T155625Z
UID:4230-1634641200-1634644800@caccn.ca
SUMMARY:Webinar: Safe Patient Handling for the Emergency Department
DESCRIPTION:Caregivers in the Healthcare Industry continue to be one of the most at risk groups for occupational musculoskeletal disorders. Each year when the Bureau of Labor Statistics publishes occupational injury incidence rates\, caregivers in Health Care remain near or at the top of the list. Awareness to this ongoing problem is growing\, however effective solutions need to be investigated and implemented. This presentation will consider caregivers in Emergency Departments and explore the occupational risks they face each day. Risk factors will be identified and discussed. Strategies for finding solutions will be presented with examples of specific solutions suggested.
URL:https://caccn.ca/event/webinar-safe-patient-handling-for-the-emergency-department/
END:VEVENT
BEGIN:VEVENT
DTSTART;TZID=America/Toronto:20211013T080000
DTEND;TZID=America/Toronto:20211013T090000
DTSTAMP:20260419T142840
CREATED:20210915T153824Z
LAST-MODIFIED:20210915T154428Z
UID:4216-1634112000-1634115600@caccn.ca
SUMMARY:Nursing Lecture:  Psychological Recovery
DESCRIPTION:Session summary was not available at time of posting
URL:https://caccn.ca/event/nursing-lecture-psychological-recovery/
END:VEVENT
BEGIN:VEVENT
DTSTART;TZID=America/Toronto:20211012T080000
DTEND;TZID=America/Toronto:20211012T090000
DTSTAMP:20260419T142840
CREATED:20210915T154738Z
LAST-MODIFIED:20210915T154738Z
UID:4224-1634025600-1634029200@caccn.ca
SUMMARY:Grand Rounds: Post-COVID respiratory management
DESCRIPTION:COVID19 survivors suffer from persistent respiratory symptoms and functional limitations after the acute infection. Longitudinal studies after SARS-CoV2 infection showed impairment in lung function exercise capacity and Lung imaging abnormalities. In this lecture\, we review possible post covid pulmonary involvement with a focus on whether they develop fibrosis. We also review the latest evidence on the long term follow up. Possible treatment strategies are discussed including antifibrotic therapy\, mesenchymal cell therapy\, prolonged steroids therapy and pulmonary rehabilitation. We conclude with recommendations for pulmonary follow up and post covid clinic design.
URL:https://caccn.ca/event/grand-rounds-post-covid-respiratory-management/
END:VEVENT
END:VCALENDAR