BEGIN:VCALENDAR
VERSION:2.0
PRODID:-//CACCN - ECPv6.15.20//NONSGML v1.0//EN
CALSCALE:GREGORIAN
METHOD:PUBLISH
X-WR-CALNAME:CACCN
X-ORIGINAL-URL:https://caccn.ca
X-WR-CALDESC:Events for CACCN
REFRESH-INTERVAL;VALUE=DURATION:PT1H
X-Robots-Tag:noindex
X-PUBLISHED-TTL:PT1H
BEGIN:VTIMEZONE
TZID:America/Toronto
BEGIN:DAYLIGHT
TZOFFSETFROM:-0500
TZOFFSETTO:-0400
TZNAME:EDT
DTSTART:20210314T070000
END:DAYLIGHT
BEGIN:STANDARD
TZOFFSETFROM:-0400
TZOFFSETTO:-0500
TZNAME:EST
DTSTART:20211107T060000
END:STANDARD
BEGIN:DAYLIGHT
TZOFFSETFROM:-0500
TZOFFSETTO:-0400
TZNAME:EDT
DTSTART:20220313T070000
END:DAYLIGHT
BEGIN:STANDARD
TZOFFSETFROM:-0400
TZOFFSETTO:-0500
TZNAME:EST
DTSTART:20221106T060000
END:STANDARD
BEGIN:DAYLIGHT
TZOFFSETFROM:-0500
TZOFFSETTO:-0400
TZNAME:EDT
DTSTART:20230312T070000
END:DAYLIGHT
BEGIN:STANDARD
TZOFFSETFROM:-0400
TZOFFSETTO:-0500
TZNAME:EST
DTSTART:20231105T060000
END:STANDARD
BEGIN:DAYLIGHT
TZOFFSETFROM:-0500
TZOFFSETTO:-0400
TZNAME:EDT
DTSTART:20240310T070000
END:DAYLIGHT
BEGIN:STANDARD
TZOFFSETFROM:-0400
TZOFFSETTO:-0500
TZNAME:EST
DTSTART:20241103T060000
END:STANDARD
END:VTIMEZONE
BEGIN:VEVENT
DTSTART;TZID=America/Toronto:20230425T120000
DTEND;TZID=America/Toronto:20230425T130000
DTSTAMP:20260419T160811
CREATED:20230310T151528Z
LAST-MODIFIED:20230310T153258Z
UID:6400-1682424000-1682427600@caccn.ca
SUMMARY:Building partnerships in crisis
DESCRIPTION:Presenter:  Karen Dryden-Palmer\, MSN\, RN
URL:https://caccn.ca/event/members-only-webinar-2/
END:VEVENT
BEGIN:VEVENT
DTSTART;TZID=America/Toronto:20230413T120000
DTEND;TZID=America/Toronto:20230413T130000
DTSTAMP:20260419T160811
CREATED:20230310T151401Z
LAST-MODIFIED:20230310T155014Z
UID:6398-1681387200-1681390800@caccn.ca
SUMMARY:Intra-abdominal hypertension: Back to the basics
DESCRIPTION:Presenter:  Caroline Penner\, RN\, CNCC(C)\, Critical Care Program\, Learning Strategies and Innovations\, Fraser Health Authority
URL:https://caccn.ca/event/members-only-webinar/
END:VEVENT
BEGIN:VEVENT
DTSTART;TZID=America/Toronto:20230330T120000
DTEND;TZID=America/Toronto:20230330T130000
DTSTAMP:20260419T160811
CREATED:20230310T151115Z
LAST-MODIFIED:20230310T155201Z
UID:6395-1680177600-1680181200@caccn.ca
SUMMARY:Mentorship Series - Session 1: Preparing for mentorship: Putting the pieces together
DESCRIPTION:Mentorship programs are often used to address nursing recruitment and retention challenges; however\, preparation for the implementation of such initiatives is rarely discussed. In this session\, opportunities for preparation at various levels within an organization will be presented as well as tips for successfully launching mentoring relationships. \n\n\n\nPresenter:  Robin Devey-Burry PhD\, RN\, Assistant Professor\, Faculty of Nursing\, Memorial University of Newfoundland
URL:https://caccn.ca/event/mentorship-series-session-1/
END:VEVENT
BEGIN:VEVENT
DTSTART;TZID=America/Toronto:20221212T003000
DTEND;TZID=America/Toronto:20221212T130000
DTSTAMP:20260419T160811
CREATED:20221013T190500Z
LAST-MODIFIED:20221013T190559Z
UID:5633-1670805000-1670850000@caccn.ca
SUMMARY:CACCN Webinar w/Dr. Judy Duchscher
DESCRIPTION:
URL:https://caccn.ca/event/caccn-webinar-w-dr-judy-duchscher/
END:VEVENT
BEGIN:VEVENT
DTSTART;TZID=America/Toronto:20221124T120000
DTEND;TZID=America/Toronto:20221124T130000
DTSTAMP:20260419T160811
CREATED:20221013T171140Z
LAST-MODIFIED:20221013T190533Z
UID:5630-1669291200-1669294800@caccn.ca
SUMMARY:CACCN Webinar (sponsored by Spacelabs)
DESCRIPTION:
URL:https://caccn.ca/event/caccn-webinar-sponsored-by-spacelabs/
END:VEVENT
BEGIN:VEVENT
DTSTART;TZID=America/Toronto:20221110T160000
DTEND;TZID=America/Toronto:20221110T170000
DTSTAMP:20260419T160811
CREATED:20221013T171034Z
LAST-MODIFIED:20221013T171034Z
UID:5628-1668096000-1668099600@caccn.ca
SUMMARY:CACCN Journal Club
DESCRIPTION:
URL:https://caccn.ca/event/caccn-journal-club/
END:VEVENT
BEGIN:VEVENT
DTSTART;TZID=America/Toronto:20221101T000000
DTEND;TZID=America/Toronto:20221101T235959
DTSTAMP:20260419T160811
CREATED:20211213T191700Z
LAST-MODIFIED:20211213T191701Z
UID:4611-1667260800-1667347199@caccn.ca
SUMMARY:CNA Certification Renewal Deadline
DESCRIPTION:
URL:https://caccn.ca/event/cna-certification-renewal-deadline/
END:VEVENT
BEGIN:VEVENT
DTSTART;TZID=America/Toronto:20221027T160000
DTEND;TZID=America/Toronto:20221027T180000
DTSTAMP:20260419T160811
CREATED:20220420T185405Z
LAST-MODIFIED:20221013T170813Z
UID:5023-1666886400-1666893600@caccn.ca
SUMMARY:CACCN Annual General Meeting
DESCRIPTION:
URL:https://caccn.ca/event/caccn-agm-and-webinar/
END:VEVENT
BEGIN:VEVENT
DTSTART;TZID=America/Toronto:20221023T080000
DTEND;TZID=America/Toronto:20221029T170000
DTSTAMP:20260419T160811
CREATED:20221014T112810Z
LAST-MODIFIED:20221014T112946Z
UID:5665-1666512000-1667062800@caccn.ca
SUMMARY:Canadian Intensive Care Week
DESCRIPTION:Canadian Intensive Care Week is a week to reflect on our practice\, promote the work we do\, promote our workplace\, acknowledge our co-workers and celebrate the Intensive Care Team!
URL:https://caccn.ca/event/canadian-intensive-care-week-2/
END:VEVENT
BEGIN:VEVENT
DTSTART;TZID=America/Toronto:20221013T193000
DTEND;TZID=America/Toronto:20221013T203000
DTSTAMP:20260419T160811
CREATED:20220420T183541Z
LAST-MODIFIED:20221013T170642Z
UID:5021-1665689400-1665693000@caccn.ca
SUMMARY:CACCN Webinar
DESCRIPTION:
URL:https://caccn.ca/event/caccn-webinar/
END:VEVENT
BEGIN:VEVENT
DTSTART;TZID=America/Toronto:20220919T000000
DTEND;TZID=America/Toronto:20220921T235959
DTSTAMP:20260419T160811
CREATED:20210915T193316Z
LAST-MODIFIED:20211213T192130Z
UID:4245-1663545600-1663804799@caccn.ca
SUMMARY:Dynamics of Critical Care 2022 Conference
DESCRIPTION:Dynamics of Critical Care is the annual national convention and product exhibition of the Canadian Association of Critical Care Nurses (CACCN). Diverse programming allows participants to choose from a broad selection of evidence-based topics that are geared to enhancing clinical practice\, leadership\, education\, and research. With pediatric and adult critical care opportunities provided\, participants design educational agendas to meet their own unique needs. Dynamics brings colleagues together from coast to coast\, to share ideas and experiences.
URL:https://caccn.ca/event/dynamics-of-critical-care-2022/
LOCATION:Caesers Windsor\, 377 Riverside Dr E\, Windsor\, N9A 7H7\, Canada
END:VEVENT
BEGIN:VEVENT
DTSTART;TZID=America/Toronto:20220908T120000
DTEND;TZID=America/Toronto:20220908T130000
DTSTAMP:20260419T160811
CREATED:20220420T175943Z
LAST-MODIFIED:20220420T180013Z
UID:5016-1662638400-1662642000@caccn.ca
SUMMARY:CACCN Webinar - Clinical Presentation
DESCRIPTION:Join Karine Allard\, Treasurer/Director CACCN for a critical care clinical presentation – topic to be advised.
URL:https://caccn.ca/event/caccn-webinar-clinical-presentation/
END:VEVENT
BEGIN:VEVENT
DTSTART;TZID=America/Toronto:20220905T080000
DTEND;TZID=America/Toronto:20220905T170000
DTSTAMP:20260419T160811
CREATED:20220610T160903Z
LAST-MODIFIED:20220610T160947Z
UID:5208-1662364800-1662397200@caccn.ca
SUMMARY:Dynamics Registration Closes
DESCRIPTION:
URL:https://caccn.ca/event/dynamics-registration-closes/
END:VEVENT
BEGIN:VEVENT
DTSTART;TZID=America/Toronto:20220901T000000
DTEND;TZID=America/Toronto:20220901T235959
DTSTAMP:20260419T160811
CREATED:20211213T192051Z
LAST-MODIFIED:20211213T192052Z
UID:4615-1661990400-1662076799@caccn.ca
SUMMARY:CNA Certification Fall Exam Deadline
DESCRIPTION:Deadline to register for the CNA Certification Examination
URL:https://caccn.ca/event/cna-certification-fall-exam-deadline/
END:VEVENT
BEGIN:VEVENT
DTSTART;TZID=America/Toronto:20220812T080000
DTEND;TZID=America/Toronto:20220812T170000
DTSTAMP:20260419T160811
CREATED:20220610T160355Z
LAST-MODIFIED:20220610T161048Z
UID:5206-1660291200-1660323600@caccn.ca
SUMMARY:Dynamics Early Bird Registration Closes
DESCRIPTION:
URL:https://caccn.ca/event/dynamics-early-bird-registration-closes/
END:VEVENT
BEGIN:VEVENT
DTSTART;TZID=America/Toronto:20220708T080000
DTEND;TZID=America/Toronto:20220722T170000
DTSTAMP:20260419T160811
CREATED:20220621T125511Z
LAST-MODIFIED:20220621T125513Z
UID:5267-1657267200-1658509200@caccn.ca
SUMMARY:CACCN National Office Closed
DESCRIPTION:Our office will be closed with no email or telephone access.
URL:https://caccn.ca/event/caccn-national-office-closed/
END:VEVENT
BEGIN:VEVENT
DTSTART;TZID=America/Toronto:20220609T120000
DTEND;TZID=America/Toronto:20220609T130000
DTSTAMP:20260419T160811
CREATED:20220420T175607Z
LAST-MODIFIED:20220420T180143Z
UID:5013-1654776000-1654779600@caccn.ca
SUMMARY:CACCN National Journal Club
DESCRIPTION:Join Sarah Crowe\, President\, CACCN and your colleagues for National Journal Club!
URL:https://caccn.ca/event/caccn-national-journal-club-2/
END:VEVENT
BEGIN:VEVENT
DTSTART;TZID=America/Toronto:20220601T000000
DTEND;TZID=America/Toronto:20220601T235959
DTSTAMP:20260419T160811
CREATED:20211223T125825Z
LAST-MODIFIED:20211223T125826Z
UID:4647-1654041600-1654127999@caccn.ca
SUMMARY:CACCN Awards Deadline
DESCRIPTION:Awards\, Grants and Bursaries for CACCN Members offered by the Canadian Association of Critical Care Nurses and our sponsors\, BBraun of Canada and Spacelabs Healtcare.
URL:https://caccn.ca/event/caccn-awards-deadline/
END:VEVENT
BEGIN:VEVENT
DTSTART;TZID=America/Toronto:20220601T000000
DTEND;TZID=America/Toronto:20220601T235959
DTSTAMP:20260419T160811
CREATED:20211213T190715Z
LAST-MODIFIED:20211213T190716Z
UID:4596-1654041600-1654127999@caccn.ca
SUMMARY:CNA Certification Fall Exam Applications Open
DESCRIPTION:Looking to write the CNA Certification Exam – applications open June 1 to September 1\, 2022. Exam writing window – November 1 to 15 with results in December 2022.
URL:https://caccn.ca/event/cna-certification-fall-exam-applications-open/
END:VEVENT
BEGIN:VEVENT
DTSTART;TZID=America/Toronto:20220526T123000
DTEND;TZID=America/Toronto:20220526T143000
DTSTAMP:20260419T160811
CREATED:20220425T203402Z
LAST-MODIFIED:20220425T203553Z
UID:5043-1653568200-1653575400@caccn.ca
SUMMARY:Critical Care Perspectives: Targeted Temperature Management
DESCRIPTION:Join CACCN Central Ontario Chapter for the presentation of Critical Care Perspectives: Targeted Temperature Management – featuring Dr. Kevin Shore\, MD and Shirley Marr\, MHScN\, MHEd\, RN\, CNCC(C).  Complimentary for ALL CACCN members across the country.  Registration:  www.bit.ly/3EWFY2J
URL:https://caccn.ca/event/critical-care-perspectives-targeted-temperature-management/
END:VEVENT
BEGIN:VEVENT
DTSTART;TZID=America/Toronto:20220513T080000
DTEND;TZID=America/Toronto:20220513T170000
DTSTAMP:20260419T160811
CREATED:20211223T122009Z
LAST-MODIFIED:20211223T122010Z
UID:4639-1652428800-1652461200@caccn.ca
SUMMARY:World PICU Day
DESCRIPTION:The World PICU Day.  The theme for WPAW 2022 will be “Families in the PICU”.
URL:https://caccn.ca/event/world-picu-day/
END:VEVENT
BEGIN:VEVENT
DTSTART;TZID=America/Toronto:20220512T120000
DTEND;TZID=America/Toronto:20220512T130000
DTSTAMP:20260419T160811
CREATED:20220420T174941Z
LAST-MODIFIED:20220420T180057Z
UID:5009-1652356800-1652360400@caccn.ca
SUMMARY:CACCN National Journal Club
DESCRIPTION:Join Brandi Vanderspank-Wright\, Vice-President\, CACCN for the National Journal Club during Nursing Week 2022.
URL:https://caccn.ca/event/caccn-national-journal-club/
END:VEVENT
BEGIN:VEVENT
DTSTART;TZID=America/Toronto:20220509T000000
DTEND;TZID=America/Toronto:20220509T235900
DTSTAMP:20260419T160811
CREATED:20211223T121546Z
LAST-MODIFIED:20211223T122131Z
UID:4636-1652054400-1652140740@caccn.ca
SUMMARY:World PICU Awareness Week 2022
DESCRIPTION:May 9 to May 13!   The World PICU Awareness Week Committee exists to raise awareness about #PedsICU in general and any important themes impacting the specialty by engaging members and key stakeholders in awareness and advocacy activities at a global and regional level.  This 7 day event culminates in World PICU Awareness Day on the 2nd Friday of May\, annually.  #WPAW2022 #WorldPICU2022
URL:https://caccn.ca/event/world-picu-awareness-week-2022/
END:VEVENT
BEGIN:VEVENT
DTSTART;TZID=America/Toronto:20220509T000000
DTEND;TZID=America/Toronto:20220509T235959
DTSTAMP:20260419T160811
CREATED:20211216T193608Z
LAST-MODIFIED:20220420T195546Z
UID:4626-1652054400-1652140799@caccn.ca
SUMMARY:National Nursing Week
DESCRIPTION:May 9 to May 15\, 2022.    \n\n\n\nThis week draws attention to nurses\, increasing the awareness of the public\, policy-makers and governments of the many contributions of nursing to the well-being of Canadians.
URL:https://caccn.ca/event/national-nursing-week/
END:VEVENT
BEGIN:VEVENT
DTSTART;TZID=America/Toronto:20220430T235900
DTEND;TZID=America/Toronto:20220430T235900
DTSTAMP:20260419T160811
CREATED:20211210T153854Z
LAST-MODIFIED:20220420T175321Z
UID:4564-1651363140-1651363140@caccn.ca
SUMMARY:Dynamics 2022 Call for Abstracts Deadline
DESCRIPTION:Due to the ongoing COVID19 pandemic\, the deadline for abstract submissionis extended from February 15 to April 30\, 2022.
URL:https://caccn.ca/event/call-for-abstracts-deadline/
END:VEVENT
BEGIN:VEVENT
DTSTART;TZID=America/Toronto:20220427T100000
DTEND;TZID=America/Toronto:20220429T160000
DTSTAMP:20260419T160811
CREATED:20220218T005219Z
LAST-MODIFIED:20220218T005246Z
UID:4861-1651053600-1651248000@caccn.ca
SUMMARY:CVAA Conference
DESCRIPTION:There is a lot of crossover between critical care and vascular access.  The CVAA is offering a 20% discount to CACCN members to attend their national virtual conference.  Visit CACCN Members Only for the discount code!
URL:https://caccn.ca/event/cvaa-conference/
END:VEVENT
BEGIN:VEVENT
DTSTART;TZID=America/Toronto:20220319T000000
DTEND;TZID=America/Toronto:20220319T235959
DTSTAMP:20260419T160811
CREATED:20211216T193213Z
LAST-MODIFIED:20211216T193214Z
UID:4624-1647648000-1647734399@caccn.ca
SUMMARY:Certified Nurses Day
DESCRIPTION:Certified Nurses Day\, celebrated annually on March 19\, shines a well-deserved spotlight on nurses who have chosen to enhance their professional knowledge through certification. The complexity of the nursing field is ever-growing and nurses strive for professional excellence and superior patient care in their desire to become certified. Today\, we thank and recognize the work these nurses have done to obtain their professional certification.
URL:https://caccn.ca/event/certified-nurses-day/
END:VEVENT
BEGIN:VEVENT
DTSTART;TZID=America/Toronto:20220224T130000
DTEND;TZID=America/Toronto:20220224T130000
DTSTAMP:20260419T160811
CREATED:20220218T010342Z
LAST-MODIFIED:20220218T010347Z
UID:4867-1645707600-1645707600@caccn.ca
SUMMARY:Using Best Practice Guidelines to Support Diversity\, Equity and Inclusion
DESCRIPTION:This webinar is designed for all health-care professionals to hear how one team has developed\, supported\, and implemented a diversity\, equity\, and inclusion plan. By creating this plan\,they truly aspire to improve their team members and client experience.
URL:https://caccn.ca/event/using-best-practice-guidelines-to-support-diversity-equity-and-inclusion/
END:VEVENT
BEGIN:VEVENT
DTSTART;TZID=America/Toronto:20220224T080000
DTEND;TZID=America/Toronto:20220225T170000
DTSTAMP:20260419T160811
CREATED:20220118T213100Z
LAST-MODIFIED:20220118T213628Z
UID:4727-1645689600-1645808400@caccn.ca
SUMMARY:Critical Care Infectious Diseases Network’s Symposium
DESCRIPTION:
URL:https://caccn.ca/event/critical-care-infectious-diseases-networks-symposium/
END:VEVENT
BEGIN:VEVENT
DTSTART;TZID=America/Toronto:20220222T140000
DTEND;TZID=America/Toronto:20220222T140000
DTSTAMP:20260419T160811
CREATED:20220218T005811Z
LAST-MODIFIED:20220218T010608Z
UID:4863-1645538400-1645538400@caccn.ca
SUMMARY:Professional Practice in Critical Care Nursing:   An ICU Unit Council
DESCRIPTION:Ottawa Region Chapter Webinar
URL:https://caccn.ca/event/ottawa-region-chapter-webinar/
END:VEVENT
END:VCALENDAR