BEGIN:VCALENDAR
VERSION:2.0
PRODID:-//CACCN - ECPv6.15.20//NONSGML v1.0//EN
CALSCALE:GREGORIAN
METHOD:PUBLISH
X-WR-CALNAME:CACCN
X-ORIGINAL-URL:https://caccn.ca
X-WR-CALDESC:Events for CACCN
REFRESH-INTERVAL;VALUE=DURATION:PT1H
X-Robots-Tag:noindex
X-PUBLISHED-TTL:PT1H
BEGIN:VTIMEZONE
TZID:America/Toronto
BEGIN:DAYLIGHT
TZOFFSETFROM:-0500
TZOFFSETTO:-0400
TZNAME:EDT
DTSTART:20240310T070000
END:DAYLIGHT
BEGIN:STANDARD
TZOFFSETFROM:-0400
TZOFFSETTO:-0500
TZNAME:EST
DTSTART:20241103T060000
END:STANDARD
BEGIN:DAYLIGHT
TZOFFSETFROM:-0500
TZOFFSETTO:-0400
TZNAME:EDT
DTSTART:20250309T070000
END:DAYLIGHT
BEGIN:STANDARD
TZOFFSETFROM:-0400
TZOFFSETTO:-0500
TZNAME:EST
DTSTART:20251102T060000
END:STANDARD
BEGIN:DAYLIGHT
TZOFFSETFROM:-0500
TZOFFSETTO:-0400
TZNAME:EDT
DTSTART:20260308T070000
END:DAYLIGHT
BEGIN:STANDARD
TZOFFSETFROM:-0400
TZOFFSETTO:-0500
TZNAME:EST
DTSTART:20261101T060000
END:STANDARD
BEGIN:DAYLIGHT
TZOFFSETFROM:-0500
TZOFFSETTO:-0400
TZNAME:EDT
DTSTART:20270314T070000
END:DAYLIGHT
BEGIN:STANDARD
TZOFFSETFROM:-0400
TZOFFSETTO:-0500
TZNAME:EST
DTSTART:20271107T060000
END:STANDARD
END:VTIMEZONE
BEGIN:VEVENT
DTSTART;TZID=America/Toronto:20251030T120000
DTEND;TZID=America/Toronto:20251030T130000
DTSTAMP:20260419T142710
CREATED:20250312T185044Z
LAST-MODIFIED:20251008T190803Z
UID:11043-1761825600-1761829200@caccn.ca
SUMMARY:Webinar: Understanding and Utilizing Nasal High Flow Therapy
DESCRIPTION:This educational webinar will provide a review of nasal high flow therapy in theICU and critical care setting: Understand the mechanisms of action of nasal high flow in adult patients\, review clinical applications supported by the latest evidence and identify patients who could benefit from nasal high flow therapy.  Sponsored by Fisher & Paykel Healthcare.
URL:https://caccn.ca/event/understanding-and-utilizing-nasal-high-flow-therapy/
END:VEVENT
BEGIN:VEVENT
DTSTART;TZID=America/Toronto:20251030T160000
DTEND;TZID=America/Toronto:20251030T160000
DTSTAMP:20260419T142710
CREATED:20250619T114146Z
LAST-MODIFIED:20251008T190919Z
UID:11684-1761840000-1761840000@caccn.ca
SUMMARY:CACCN Annual General Meeting of the Members
DESCRIPTION:Annual General Meeting of the members will be held on Zoom from 4:00 pm to 5:00 pm on October 30.  For more information\, agenda\, proxy vote forms and the registration link visit Annual General Meeting.
URL:https://caccn.ca/event/caccn-annual-general-meeting-of-the-members/
END:VEVENT
BEGIN:VEVENT
DTSTART;TZID=America/Toronto:20251107T120000
DTEND;TZID=America/Toronto:20251107T130000
DTSTAMP:20260419T142710
CREATED:20250317T185911Z
LAST-MODIFIED:20250922T184538Z
UID:11097-1762516800-1762520400@caccn.ca
SUMMARY:Webinaire:  Comprendre et utiliser la thérapie nasale à haut débit
DESCRIPTION:Sponsorisé par Fisher and Paykel Healthcare:   \n\n\n\nComprendre les mécanismes d’action du haut débit nasal chez les patients adultes.✓ Revoir les applications cliniques appuyées par les données probantes les plus récentes.✓ Identifier les patients qui pourraient bénéficier de la thérapie nasale à haut débit.
URL:https://caccn.ca/event/webinaire-comprendre-et-utiliser-la-therapie-nasale-a-haut-debit/
END:VEVENT
BEGIN:VEVENT
DTSTART;TZID=America/Toronto:20251114T080000
DTEND;TZID=America/Toronto:20251114T170000
DTSTAMP:20260419T142710
CREATED:20251015T171608Z
LAST-MODIFIED:20251015T171610Z
UID:12271-1763107200-1763139600@caccn.ca
SUMMARY:The Power of a Song in Dementia Care
DESCRIPTION:Come see and feel the power of music \n\n\n\nThe MUSIC CARE CONFERENCE is a national conference bringing together community members who are interested in music and care. This educational and inspirational conference identifies and integrates common themes and issues using music across the care spectrum and highlights the social and wellness implications of music in care.
URL:https://caccn.ca/event/the-power-of-a-song-in-dementia-care/
END:VEVENT
BEGIN:VEVENT
DTSTART;TZID=America/Toronto:20251125T120000
DTEND;TZID=America/Toronto:20251125T130000
DTSTAMP:20260419T142710
CREATED:20241212T145721Z
LAST-MODIFIED:20251008T190739Z
UID:10107-1764072000-1764075600@caccn.ca
SUMMARY:Webinar:  From chaos to clarity: The therapeutic potential of journals and diaries to recall the ICU journey.
DESCRIPTION:Members Only Webinar:  Critical care diaries and journals are significantly underutilized in the clinical setting and yet provide significant therapeutic benefit. Applicable to all critical care areas and demographics\, the benefits of this creative outlet for both families and patients has been explored greatly. This presentation will summarize the evidence behind encouragement of journaling during the critical illness experience; educate about positive outcomes for patients\, families\, and care teams; identify barriers to implementation; and provide project implementation strategies for units and families at all accessibility and budget levels.
URL:https://caccn.ca/event/from-chaos-to-clarity-the-therapeutic-potential-of-journals-and-diaries-to-recall-the-icu-journey/
END:VEVENT
BEGIN:VEVENT
DTSTART;TZID=America/Toronto:20251215T000000
DTEND;TZID=America/Toronto:20251215T235959
DTSTAMP:20260419T142710
CREATED:20241212T161635Z
LAST-MODIFIED:20250123T152619Z
UID:10159-1765756800-1765843199@caccn.ca
SUMMARY:CNA Certification (Renewal) Deadline
DESCRIPTION:CNA certification is a nationally recognized nursing specialty credential for nurses. The CNA Certification Program consists of 22 nursing practice specialties. Earning this credential shows your employer\, peers and clients that you are a dedicated professional committed to lifelong learning\, patient advocacy and professional practice. Certification is a great way to demonstrate your continuing competence in your nursing specialty. It can also help you fulfil some of the quality assurance program requirements of your employer and/or licensing body.
URL:https://caccn.ca/event/cna-certification-renewal-deadline-2/
END:VEVENT
BEGIN:VEVENT
DTSTART;TZID=America/Toronto:20251216T080000
DTEND;TZID=America/Toronto:20260102T160000
DTSTAMP:20260419T142710
CREATED:20251208T195300Z
LAST-MODIFIED:20251208T195301Z
UID:12504-1765872000-1767369600@caccn.ca
SUMMARY:CACCN: Holiday Closure
DESCRIPTION:
URL:https://caccn.ca/event/caccn-holiday-closure/
END:VEVENT
BEGIN:VEVENT
DTSTART;TZID=America/Toronto:20260113T070000
DTEND;TZID=America/Toronto:20260113T210000
DTSTAMP:20260419T142710
CREATED:20251210T130250Z
LAST-MODIFIED:20251210T130252Z
UID:12509-1768287600-1768338000@caccn.ca
SUMMARY:SK Chapter Education Night (In person/Virtual)
DESCRIPTION:Evidence-Based Physical Therapy Treatment in Critical Care \n\n\n\n2105 8 St E #32 (2nd Floor)\, Saskatoon\, SK S7H 0T8\, Canada
URL:https://caccn.ca/event/sk-chapter-education-night-in-person-virtual/
END:VEVENT
BEGIN:VEVENT
DTSTART;TZID=America/Toronto:20260120T000000
DTEND;TZID=America/Toronto:20260120T235959
DTSTAMP:20260419T142710
CREATED:20251211T121556Z
LAST-MODIFIED:20251211T121558Z
UID:12525-1768867200-1768953599@caccn.ca
SUMMARY:Virtual Career Fair - Interior Health
DESCRIPTION:Register for the Specialty Nursing Virtual Career Fair hosted by @InteriorHealth on January 20\, 2026. Chat one-on-one with one of their passionate nursing recruiters and learn more about their opportunities and how they can help you take the first\, or next\, step in your career journey! With comprehensive benefits\, continuous development opportunities\, and a culture that encourages you to bring your whole self to work\, #InteriorHealth is committed to supporting nurses at every stage of their careers. Don’t miss your chance to explore roles\, ask questions\, and discover where your nursing career can go!
URL:https://caccn.ca/event/virtual-career-fair-interior-health/
END:VEVENT
BEGIN:VEVENT
DTSTART;TZID=America/Toronto:20260129T150000
DTEND;TZID=America/Toronto:20260129T160000
DTSTAMP:20260419T142710
CREATED:20260123T141147Z
LAST-MODIFIED:20260123T141728Z
UID:12671-1769698800-1769702400@caccn.ca
SUMMARY:Understanding Connections: First Nation Views on Pharmacist Relationships
DESCRIPTION:CACCN Alberta Chapter   –  Time is ET (1:00 pm MT)
URL:https://caccn.ca/event/understanding-connections-first-nation-views-on-pharmacist-relationships/
END:VEVENT
BEGIN:VEVENT
DTSTART;TZID=America/Toronto:20260209T210000
DTEND;TZID=America/Toronto:20260209T220000
DTSTAMP:20260419T142710
CREATED:20260123T141019Z
LAST-MODIFIED:20260123T141630Z
UID:12669-1770670800-1770674400@caccn.ca
SUMMARY:Respectfully...Ventilators for Dummies
DESCRIPTION:CACCN Saskatchewan Chapter – In-Person and Online: Time is Eastern Time – 07:00 pm MT
URL:https://caccn.ca/event/respectfully-ventilators-for-dummies/
END:VEVENT
BEGIN:VEVENT
DTSTART;TZID=America/Toronto:20260212T150000
DTEND;TZID=America/Toronto:20260212T160000
DTSTAMP:20260419T142710
CREATED:20260123T141306Z
LAST-MODIFIED:20260123T141546Z
UID:12673-1770908400-1770912000@caccn.ca
SUMMARY:Exploring Families’ Experiences with End-of-Life Care in the Pediatric Intensive Care Unit
DESCRIPTION:CACCN Alberta Chapter Webinar  (Time noted is Eastern Time)
URL:https://caccn.ca/event/exploring-familiesexperiences-with-end-of-life-care-in-the-pediatricintensive-care-unit/
END:VEVENT
BEGIN:VEVENT
DTSTART;TZID=America/Toronto:20260226T150000
DTEND;TZID=America/Toronto:20260226T160000
DTSTAMP:20260419T142710
CREATED:20260123T141922Z
LAST-MODIFIED:20260123T141924Z
UID:12677-1772118000-1772121600@caccn.ca
SUMMARY:Rescue mechanical circulatory support for cardiogenic shock
DESCRIPTION:CACCN Alberta Webinar.  Time is eastern time (1:00 pm MT)
URL:https://caccn.ca/event/rescue-mechanical-circulatory-support-for-cardiogenic-shock/
END:VEVENT
BEGIN:VEVENT
DTSTART;TZID=America/Toronto:20260305T120000
DTEND;TZID=America/Toronto:20260305T130000
DTSTAMP:20260419T142710
CREATED:20260212T180054Z
LAST-MODIFIED:20260212T180211Z
UID:12712-1772712000-1772715600@caccn.ca
SUMMARY:Webinar: Back to Basics: Inotropes and Pressors
DESCRIPTION:(1:00 pm to 2:00 pm Atlantic time) \n\n\n\nThis webinar is a focused session for critical care nurses who want to refresh or strengthen their understanding of vasoactive medications\, hosted by Kristin Kaupp.  \n\n\n\nCACCN Members:  Complimentary.  A discount code will be sent to members to use when registering. \n\n\n\nNon-CACCN Members:  $ 5.00 plus HST = $ 5.70 
URL:https://caccn.ca/event/webinar-back-to-basics-inotropes-and-pressors/
ORGANIZER;CN="Nova Scotia Chapter":MAILTO:novascotia@caccn.ca
END:VEVENT
BEGIN:VEVENT
DTSTART;TZID=America/Toronto:20260310T090000
DTEND;TZID=America/Toronto:20260310T160000
DTSTAMP:20260419T142710
CREATED:20260208T100614Z
LAST-MODIFIED:20260208T100708Z
UID:12699-1773133200-1773158400@caccn.ca
SUMMARY:Virtual Career Fair
DESCRIPTION:12:00 pm to 7:00 pm ET. \n\n\n\nJoin Interior Health’s Spring Virtual Career Fair.  Meet with recruiters one-on-one\, explore a variety of nursing careers and see where your skills and experience can make a real impact.  Can’t grab a session at your booth of choice? Leave your resume and an IH recruiter will reach out if a position could be a good match!
URL:https://caccn.ca/event/virtual-career-fair/
END:VEVENT
BEGIN:VEVENT
DTSTART;TZID=America/Toronto:20260311T200000
DTEND;TZID=America/Toronto:20260311T210000
DTSTAMP:20260419T142710
CREATED:20260130T135542Z
LAST-MODIFIED:20260130T181902Z
UID:12686-1773259200-1773262800@caccn.ca
SUMMARY:Toxicology Cases in the ICU
DESCRIPTION:Time = MST
URL:https://caccn.ca/event/toxicology-cases-in-the-icu/
ORGANIZER;CN="CACCN Saskatchewan Chapter":MAILTO:saskatchewan2@caccn.ca
END:VEVENT
BEGIN:VEVENT
DTSTART;TZID=America/Toronto:20260324T080000
DTEND;TZID=America/Toronto:20260324T170000
DTSTAMP:20260419T142710
CREATED:20260212T180507Z
LAST-MODIFIED:20260218T143323Z
UID:12717-1774339200-1774371600@caccn.ca
SUMMARY:Pediatric Conference - Montreal
DESCRIPTION:Join the CACCN Montreal Chapter for a focused pediatric critical care conference bringing nurses and interprofessional colleagues together to share current evidence\, practical strategies\, and real-world experiences from the bedside.   \n\n\n\nCACCN Members = $ 32.00 including GST after applying the discount code \n\n\n\nNon-CACCN Members = $ 69.00 including GST  (Save – become a CACCN Member:  https://caccn.ca/join-us/membership-processing/)
URL:https://caccn.ca/event/pediatric-conference-montreal/
ORGANIZER;CN="CACCN Montreal Chapter":MAILTO:montreal@caccn.ca
END:VEVENT
BEGIN:VEVENT
DTSTART;TZID=America/Toronto:20260423T210000
DTEND;TZID=America/Toronto:20260423T220000
DTSTAMP:20260419T142710
CREATED:20260218T143243Z
LAST-MODIFIED:20260401T140231Z
UID:12752-1776978000-1776981600@caccn.ca
SUMMARY:Saskatchewan Chapter Webinar:  Brain Wave: A look at EEG’s
DESCRIPTION:(07:00 pm CST) \n\n\n\nTickets:CACCN Members: Free with discount codeNon-Members: $10 + taxUndergraduate Students: $5 + taxVirtual and recording tickets available
URL:https://caccn.ca/event/brain-wave-a-look-at-eegs/
ORGANIZER;CN="CACCN Saskatchewan Chapter":MAILTO:saskatchewan2@caccn.ca
END:VEVENT
BEGIN:VEVENT
DTSTART;TZID=America/Toronto:20260507T140000
DTEND;TZID=America/Toronto:20260507T150000
DTSTAMP:20260419T142710
CREATED:20260415T135218Z
LAST-MODIFIED:20260415T135246Z
UID:13003-1778162400-1778166000@caccn.ca
SUMMARY:CACCN National Webinar
DESCRIPTION:Paula Price Memorial Education Series 2026Supporting critical care in rural and remote settings: A conversation with Regional Critical Care Educators
URL:https://caccn.ca/event/caccn-national-webinar/
ORGANIZER;CN="CACCN":MAILTO:caccn@caccn.ca
END:VEVENT
BEGIN:VEVENT
DTSTART;TZID=America/Toronto:20260510T080000
DTEND;TZID=America/Toronto:20260510T170000
DTSTAMP:20260419T142710
CREATED:20251201T171740Z
LAST-MODIFIED:20251201T172247Z
UID:12453-1778400000-1778432400@caccn.ca
SUMMARY:22nd Emirates Critical Care Conference & 22nd WFCCN conference
DESCRIPTION:This global collaboration brings together lecture topics in scientific sessions with multiple workshops & courses\, featuring esteemed speakers who have made invaluable contributions towards a robust scientific program. This year\, we continue our mission to bridge global educational disparities\, bringing together East and West in Dubai\, as the Emirates Critical Care Conference (ECCC) unites the world under one platform of knowledge and collaboration with this year’s theme “From Evidence to Excellence: The Future of Critical Care”.
URL:https://caccn.ca/event/22nd-emirates-critical-care-conference-22nd-wfccn-conference-of-wfccn/
END:VEVENT
BEGIN:VEVENT
DTSTART;TZID=America/Toronto:20260611T080000
DTEND;TZID=America/Toronto:20260613T170000
DTSTAMP:20260419T142710
CREATED:20260121T162939Z
LAST-MODIFIED:20260121T163053Z
UID:12653-1781164800-1781370000@caccn.ca
SUMMARY:Canadian Critical Care Review (CCCS)
DESCRIPTION:Canadian Critical Care Society \n\n\n\n\nJune 11\, 2026:  A half-day small group “Update on Principles and Practice of Mechanical Ventilation” workshop will be offered to trainees registered in a Canadian Critical Care training program as well as practicing intensivists and respiratory therapists. Participants will be able to choose from a selection of workshop topics to best suit their learning goals. Space is limited so be sure to register early.\n\n\n\nJune 12-13\, 2026 – Canadian Critical Care Review (CCCR):  This vital critical care review course will follow our traditional format of learning\, and with the aid of interactive media\, participants will be able to anonymously assess their knowledge and readiness for the Royal College examination to help identify areas for ongoing development.   This year’s review course will focus on adult critical care medicine. Content will be made available to all learners after the course\, providing a valuable resource for exam preparation. To ensure registrants can review topics not covered in this year’s course\, applicable session recordings from the 2025 review course will also be made available.
URL:https://caccn.ca/event/canadian-critical-care-review/
END:VEVENT
BEGIN:VEVENT
DTSTART;TZID=America/Toronto:20260611T080000
DTEND;TZID=America/Toronto:20260613T170000
DTSTAMP:20260419T142710
CREATED:20260219T123127Z
LAST-MODIFIED:20260219T124044Z
UID:12765-1781164800-1781370000@caccn.ca
SUMMARY:Cdn Critical Care Review - CCCS
DESCRIPTION:June 11\, 2026 – Update on Principles and Practice of Mechanical Ventilation Workshop \n\n\n\nJune 12-13\, 2026 – Canadian Critical Care Review (CCCR)  \n\n\n\nCCCS is committed to delivering a highly valued\, engaging program to meet the educational needs of critical care trainees\, practicing critical care nurses\, allied health professionals\, respiratory therapists and intensivists. 
URL:https://caccn.ca/event/cdn-critical-care-review-cccs/
END:VEVENT
BEGIN:VEVENT
DTSTART;TZID=America/Toronto:20260611T120000
DTEND;TZID=America/Toronto:20260611T130000
DTSTAMP:20260419T142710
CREATED:20260401T135522Z
LAST-MODIFIED:20260401T135524Z
UID:12923-1781179200-1781182800@caccn.ca
SUMMARY:CACCN Webinar:  A Second Chance at Life: The Nurse’s Role in the Journey of Living Donation
DESCRIPTION:This presentation provides a comprehensive overview of living organ donation beginning with a brief introduction and session objectives. It then explores the history and evolution of organ donation in Canada\, then shifting to focus on living donation. \n\n\n\nParticipants will gain a deeper understanding of living donation\, including pathways for identifying and approaching potential donors and how to support conversations for their patients that may be in need of a transplant and more! \n\n\n\nThe session will conclude with a summary of key takeaways and an opportunity for open discussion and questions\, fostering engagement and knowledge exchange among participants.
URL:https://caccn.ca/event/caccn-webinar-a-second-chance-at-life-the-nurses-role-in-the-journey-of-living-donation/
END:VEVENT
BEGIN:VEVENT
DTSTART;TZID=America/Toronto:20260617T120000
DTEND;TZID=America/Toronto:20260617T130000
DTSTAMP:20260419T142710
CREATED:20260401T135708Z
LAST-MODIFIED:20260401T135711Z
UID:12925-1781697600-1781701200@caccn.ca
SUMMARY:CACCN Webinar: Optimal Humidity:  An Essential Component of Care for Non-invasive and Invasively Ventilated Patients
DESCRIPTION:This webinar will review non-invasive respiratory support\, including nasal high flow and Bi-level ventilation. Highlight the importance of optimal humidity during non-invasive and invasive ventilation. Discuss the importance of comfort and fit of non-invasive ventilation masks. \n\n\n\nSponsored by Fisher & Paykel Healthcare
URL:https://caccn.ca/event/caccn-webinar-optimal-humidity-an-essential-component-of-care-for-non-invasive-and-invasively-ventilated-patients/
END:VEVENT
BEGIN:VEVENT
DTSTART;TZID=America/Toronto:20260618T120000
DTEND;TZID=America/Toronto:20260618T130000
DTSTAMP:20260419T142710
CREATED:20260401T140007Z
LAST-MODIFIED:20260401T140010Z
UID:12927-1781784000-1781787600@caccn.ca
SUMMARY:Webinaire ACIISC: Humidité optimale : un élément essentiel des soins prodigués aux patients sous ventilation non invasive et invasive
DESCRIPTION:Ce webinaire passera en revue les différentes formes d’assistance respiratoire non invasive\, notamment l’oxygénothérapie nasale à haut débit et la ventilation à deux niveaux. Il mettra l’accent sur l’importance d’une humidification optimale lors de la ventilation non invasive et invasive. Il abordera également l’importance du confort et de l’ajustement des masques de ventilation non invasive. (DeepL Translate) \n\n\n\nParrainé par Fisher and Paykel Healthcare
URL:https://caccn.ca/event/webinaire-aciisc-humidite-optimale-un-element-essentiel-des-soins-prodigues-aux-patients-sous-ventilation-non-invasive-et-invasive/
END:VEVENT
BEGIN:VEVENT
DTSTART;TZID=America/Toronto:20260703T080000
DTEND;TZID=America/Toronto:20260705T170000
DTSTAMP:20260419T142710
CREATED:20251028T164455Z
LAST-MODIFIED:20251028T164520Z
UID:12320-1783065600-1783270800@caccn.ca
SUMMARY:APNCC2026
DESCRIPTION:As the only conference in Malaysia\, and among the few in the region\, dedicated exclusively to both adult and paediatric neurocritical care\, APNCC 2026 will serve as a vital platform for advancing practice\, research\, and collaboration. By bringing together local and international experts from multiple disciplines\, the conference aims to foster meaningful exchange\, strengthen networks\, and ultimately improve outcomes for patients facing life-threatening neurological and neurosurgical conditions.
URL:https://caccn.ca/event/asia-pacific-neurocritical-care-conference-apncc-2026/
END:VEVENT
BEGIN:VEVENT
DTSTART;TZID=America/Toronto:20260926T080000
DTEND;TZID=America/Toronto:20260930T170000
DTSTAMP:20260419T142710
CREATED:20251201T172538Z
LAST-MODIFIED:20251201T172604Z
UID:12459-1790409600-1790787600@caccn.ca
SUMMARY:WFPICCS Conference
DESCRIPTION:We are excited to welcome you to WFPICCS 2026\, the 13th World Congress of the World Federation of Pediatric Intensive & Critical Care Societies (WFPICCS)\, held in conjunction with the ANZICS ACCCN Intensive Care Annual Scientific Meeting at the Melbourne Convention and Exhibition Centre from 26 to 30 September 2026.
URL:https://caccn.ca/event/wfpiccs-conference/
END:VEVENT
BEGIN:VEVENT
DTSTART;TZID=America/Toronto:20260929T080000
DTEND;TZID=America/Toronto:20260930T170000
DTSTAMP:20260419T142710
CREATED:20250923T174704Z
LAST-MODIFIED:20251201T172852Z
UID:12114-1790668800-1790787600@caccn.ca
SUMMARY:2026 Canadian Critical Care Nursing Conference
DESCRIPTION:Attending the Canadian Critical Care Nursing Conference allows you to share and learn the latest on a multitude of topics\, and to hone your skills both clinical and professional through the conference presentations.  This national critical care nursing event provides an excellent opportunity to network with nurses and interprofessional colleagues from across the country and abroad.  Earn 12 Continuous Learning Hours by attending! Come rekindle friendships\, start new friendships\, share ideas and have fun!
URL:https://caccn.ca/event/2026-canadian-critical-care-nursing-conference/
LOCATION:Delta Prince Edward\, Charlottetown\, Prince Edward Island\, Canada
END:VEVENT
BEGIN:VEVENT
DTSTART;TZID=America/Toronto:20261005T080000
DTEND;TZID=America/Toronto:20261006T170000
DTSTAMP:20260419T142710
CREATED:20260120T125632Z
LAST-MODIFIED:20260120T125716Z
UID:12639-1791187200-1791306000@caccn.ca
SUMMARY:2026 World Critical Care & Anesthesiology Conference (2026WCAC)
DESCRIPTION:Look further as the upcoming Critical Care conferences and anesthesiology conferences will take place in 2026 in Osaka\, Japan. After having the successful completion of Critical Care Conference 2025 in Singapore\, we are ready with the 11th edition of 2026 Critical Care Conference in Osaka\, Japan\, on October 05-06\, 2026. These conferences offer a wealth of information and opportunities for professional development\, featuring presentations and discussions on various topics\, including Anesthetic Challenges\, ECMO\, ICU Management and Practice\, and Pediatric ICU. 
URL:https://caccn.ca/event/2026-world-critical-care-anesthesiology-conference-2026wcac/
END:VEVENT
BEGIN:VEVENT
DTSTART;TZID=America/Toronto:20261019T080000
DTEND;TZID=America/Toronto:20261020T170000
DTSTAMP:20260419T142710
CREATED:20260316T142519Z
LAST-MODIFIED:20260316T142521Z
UID:12867-1792396800-1792515600@caccn.ca
SUMMARY:V Euro Anesthesiology and Critical Care Congress (Hybrid)
DESCRIPTION:The EACCM 26 focuses on advancing patient care through innovations in anesthesia\, pain management\, and intensive care. By integrating evidence-based medicine with the latest advancements in clinical practice and digital health\, the event fosters interdisciplinary dialogue to enhance patient outcomes and define the future of anesthesiology and critical care worldwide.
URL:https://caccn.ca/event/v-euro-anesthesiology-and-critical-care-congress-hybrid/
END:VEVENT
END:VCALENDAR