BEGIN:VCALENDAR
VERSION:2.0
PRODID:-//CACCN - ECPv6.15.20//NONSGML v1.0//EN
CALSCALE:GREGORIAN
METHOD:PUBLISH
X-WR-CALNAME:CACCN
X-ORIGINAL-URL:https://caccn.ca
X-WR-CALDESC:Events for CACCN
REFRESH-INTERVAL;VALUE=DURATION:PT1H
X-Robots-Tag:noindex
X-PUBLISHED-TTL:PT1H
BEGIN:VTIMEZONE
TZID:America/Toronto
BEGIN:DAYLIGHT
TZOFFSETFROM:-0500
TZOFFSETTO:-0400
TZNAME:EDT
DTSTART:20200308T070000
END:DAYLIGHT
BEGIN:STANDARD
TZOFFSETFROM:-0400
TZOFFSETTO:-0500
TZNAME:EST
DTSTART:20201101T060000
END:STANDARD
BEGIN:DAYLIGHT
TZOFFSETFROM:-0500
TZOFFSETTO:-0400
TZNAME:EDT
DTSTART:20210314T070000
END:DAYLIGHT
BEGIN:STANDARD
TZOFFSETFROM:-0400
TZOFFSETTO:-0500
TZNAME:EST
DTSTART:20211107T060000
END:STANDARD
BEGIN:DAYLIGHT
TZOFFSETFROM:-0500
TZOFFSETTO:-0400
TZNAME:EDT
DTSTART:20220313T070000
END:DAYLIGHT
BEGIN:STANDARD
TZOFFSETFROM:-0400
TZOFFSETTO:-0500
TZNAME:EST
DTSTART:20221106T060000
END:STANDARD
END:VTIMEZONE
BEGIN:VEVENT
DTSTART;TZID=America/Toronto:20210920T110000
DTEND;TZID=America/Toronto:20210920T120000
DTSTAMP:20260420T032541
CREATED:20210915T155030Z
LAST-MODIFIED:20210915T155236Z
UID:4226-1632135600-1632139200@caccn.ca
SUMMARY:Webinar: Operating Room Air Quality and Risks including COVID 19
DESCRIPTION:This session will explore the correlation between the environment of the OR and infections involving implantable devices\, with emphasis on the contribution of contaminated air\, pathways for reduction of risk and new evidence on emerging technology shown to reduce aerosolized bioburden and SSI.
URL:https://caccn.ca/event/webinar-operating-room-air-quality-and-risks-including-covid-19/
END:VEVENT
BEGIN:VEVENT
DTSTART;TZID=America/Toronto:20210920T000000
DTEND;TZID=America/Toronto:20210920T235959
DTSTAMP:20260420T032541
CREATED:20210915T152508Z
LAST-MODIFIED:20210915T152509Z
UID:4208-1632096000-1632182399@caccn.ca
SUMMARY:Canadian Federal Election Day
DESCRIPTION:
URL:https://caccn.ca/event/canadian-federal-election-day/
END:VEVENT
BEGIN:VEVENT
DTSTART;TZID=America/Toronto:20210609T130000
DTEND;TZID=America/Toronto:20210609T130000
DTSTAMP:20260420T032541
CREATED:20210318T142937Z
LAST-MODIFIED:20210318T143233Z
UID:3379-1623243600-1623243600@caccn.ca
SUMMARY:BOD Nominations - Question & Answer Session
DESCRIPTION:Eastern Time \n\n\n\nFor more information visit:  https://caccn.ca/board-of-director-nominations/
URL:https://caccn.ca/event/bod-nominations-question-answer-session-3/
END:VEVENT
BEGIN:VEVENT
DTSTART;TZID=America/Toronto:20210526T130000
DTEND;TZID=America/Toronto:20210526T130000
DTSTAMP:20260420T032541
CREATED:20210318T141543Z
LAST-MODIFIED:20210318T143550Z
UID:3369-1622034000-1622034000@caccn.ca
SUMMARY:BOMImed Webinar:  Air Transport
DESCRIPTION:Eastern Time \n\n\n\nRegister: https://www.bomimed.com/en/e-learning
URL:https://caccn.ca/event/bomimed-webinar-air-transport/
END:VEVENT
BEGIN:VEVENT
DTSTART;TZID=America/Toronto:20210512T160000
DTEND;TZID=America/Toronto:20210512T160000
DTSTAMP:20260420T032541
CREATED:20210318T142916Z
LAST-MODIFIED:20210318T143733Z
UID:3378-1620835200-1620835200@caccn.ca
SUMMARY:BOD Nominations - Question & Answer Session
DESCRIPTION:Eastern Time \n\n\n\nFor more information visit:  https://caccn.ca/board-of-director-nominations/
URL:https://caccn.ca/event/bod-nominations-question-answer-session-2/
END:VEVENT
END:VCALENDAR