BEGIN:VCALENDAR
VERSION:2.0
PRODID:-//CACCN - ECPv6.15.20//NONSGML v1.0//EN
CALSCALE:GREGORIAN
METHOD:PUBLISH
X-ORIGINAL-URL:https://caccn.ca
X-WR-CALDESC:Events for CACCN
REFRESH-INTERVAL;VALUE=DURATION:PT1H
X-Robots-Tag:noindex
X-PUBLISHED-TTL:PT1H
BEGIN:VTIMEZONE
TZID:America/Toronto
BEGIN:DAYLIGHT
TZOFFSETFROM:-0500
TZOFFSETTO:-0400
TZNAME:EDT
DTSTART:20240310T070000
END:DAYLIGHT
BEGIN:STANDARD
TZOFFSETFROM:-0400
TZOFFSETTO:-0500
TZNAME:EST
DTSTART:20241103T060000
END:STANDARD
BEGIN:DAYLIGHT
TZOFFSETFROM:-0500
TZOFFSETTO:-0400
TZNAME:EDT
DTSTART:20250309T070000
END:DAYLIGHT
BEGIN:STANDARD
TZOFFSETFROM:-0400
TZOFFSETTO:-0500
TZNAME:EST
DTSTART:20251102T060000
END:STANDARD
BEGIN:DAYLIGHT
TZOFFSETFROM:-0500
TZOFFSETTO:-0400
TZNAME:EDT
DTSTART:20260308T070000
END:DAYLIGHT
BEGIN:STANDARD
TZOFFSETFROM:-0400
TZOFFSETTO:-0500
TZNAME:EST
DTSTART:20261101T060000
END:STANDARD
END:VTIMEZONE
BEGIN:VEVENT
DTSTART;TZID=America/Toronto:20250916T000000
DTEND;TZID=America/Toronto:20250919T235959
DTSTAMP:20260419T111453
CREATED:20240705T110412Z
LAST-MODIFIED:20250623T101628Z
UID:9034-1757980800-1758326399@caccn.ca
SUMMARY:17th World Congress for Intensive & Critical Care
DESCRIPTION:The Canadian Critical Care Society and the Canadian Association of Critical Care Nurses are excited to host you at the 17th World Congress for Intensive & Critical Care in September 2025. Together with our global colleagues\, our interdisciplinary partners\, and our patients\, we will bring our uniquely Canadian collaborative culture and spirit to all aspects of the World Congress.
URL:https://caccn.ca/event/17th-world-congress-for-intensive-critical-care/
END:VEVENT
END:VCALENDAR