BEGIN:VCALENDAR
VERSION:2.0
PRODID:-//CACCN - ECPv6.15.20//NONSGML v1.0//EN
CALSCALE:GREGORIAN
METHOD:PUBLISH
X-WR-CALNAME:CACCN
X-ORIGINAL-URL:https://caccn.ca
X-WR-CALDESC:Events for CACCN
REFRESH-INTERVAL;VALUE=DURATION:PT1H
X-Robots-Tag:noindex
X-PUBLISHED-TTL:PT1H
BEGIN:VTIMEZONE
TZID:America/Toronto
BEGIN:DAYLIGHT
TZOFFSETFROM:-0500
TZOFFSETTO:-0400
TZNAME:EDT
DTSTART:20240310T070000
END:DAYLIGHT
BEGIN:STANDARD
TZOFFSETFROM:-0400
TZOFFSETTO:-0500
TZNAME:EST
DTSTART:20241103T060000
END:STANDARD
BEGIN:DAYLIGHT
TZOFFSETFROM:-0500
TZOFFSETTO:-0400
TZNAME:EDT
DTSTART:20250309T070000
END:DAYLIGHT
BEGIN:STANDARD
TZOFFSETFROM:-0400
TZOFFSETTO:-0500
TZNAME:EST
DTSTART:20251102T060000
END:STANDARD
BEGIN:DAYLIGHT
TZOFFSETFROM:-0500
TZOFFSETTO:-0400
TZNAME:EDT
DTSTART:20260308T070000
END:DAYLIGHT
BEGIN:STANDARD
TZOFFSETFROM:-0400
TZOFFSETTO:-0500
TZNAME:EST
DTSTART:20261101T060000
END:STANDARD
END:VTIMEZONE
BEGIN:VEVENT
DTSTART;TZID=America/Toronto:20250601T225900
DTEND;TZID=America/Toronto:20250601T235900
DTSTAMP:20260423T102731
CREATED:20241212T151058Z
LAST-MODIFIED:20241212T152903Z
UID:10120-1748818740-1748822340@caccn.ca
SUMMARY:Awards\, Grants & Bursary Deadline
DESCRIPTION:Deadline: June 1 @ 11:59 pm ET \n\n\n\nEach year\, we proudly honour excellence in our specialty!  Our annual Awards\, Grants and Bursaries celebrate individual excellence\, expertise\, outstanding achievements\, professional development\, and superior contributions to the association and our critical care specialty. If you know someone who has made a difference\, we welcome your nominations.
URL:https://caccn.ca/event/caccn-awards-grants-bursary-deadline/
END:VEVENT
END:VCALENDAR