BEGIN:VCALENDAR
VERSION:2.0
PRODID:-//CACCN - ECPv6.15.20//NONSGML v1.0//EN
CALSCALE:GREGORIAN
METHOD:PUBLISH
X-WR-CALNAME:CACCN
X-ORIGINAL-URL:https://caccn.ca
X-WR-CALDESC:Events for CACCN
REFRESH-INTERVAL;VALUE=DURATION:PT1H
X-Robots-Tag:noindex
X-PUBLISHED-TTL:PT1H
BEGIN:VTIMEZONE
TZID:America/Toronto
BEGIN:DAYLIGHT
TZOFFSETFROM:-0500
TZOFFSETTO:-0400
TZNAME:EDT
DTSTART:20240310T070000
END:DAYLIGHT
BEGIN:STANDARD
TZOFFSETFROM:-0400
TZOFFSETTO:-0500
TZNAME:EST
DTSTART:20241103T060000
END:STANDARD
BEGIN:DAYLIGHT
TZOFFSETFROM:-0500
TZOFFSETTO:-0400
TZNAME:EDT
DTSTART:20250309T070000
END:DAYLIGHT
BEGIN:STANDARD
TZOFFSETFROM:-0400
TZOFFSETTO:-0500
TZNAME:EST
DTSTART:20251102T060000
END:STANDARD
BEGIN:DAYLIGHT
TZOFFSETFROM:-0500
TZOFFSETTO:-0400
TZNAME:EDT
DTSTART:20260308T070000
END:DAYLIGHT
BEGIN:STANDARD
TZOFFSETFROM:-0400
TZOFFSETTO:-0500
TZNAME:EST
DTSTART:20261101T060000
END:STANDARD
END:VTIMEZONE
BEGIN:VEVENT
DTSTART;TZID=America/Toronto:20250512T000000
DTEND;TZID=America/Toronto:20250518T235959
DTSTAMP:20260423T103529
CREATED:20250328T102010Z
LAST-MODIFIED:20250328T102015Z
UID:11227-1747008000-1747612799@caccn.ca
SUMMARY:Nursing Week 2025
DESCRIPTION:Mark your calendars! National Nursing Week takes place from May 12-18\, 2025\, and CNA is thrilled to announce this year’s theme: The Power of Nurses to Transform Health. \n\n\n\nThis theme highlights the incredible impact nurses have in shaping health care\, driving innovation\, and advocating for patient-centred care.  \n\n\n\nNational Nursing Week serves as an opportunity to recognize and celebrate the hard work and dedication of nurses across Canada and around the world.  Celebrate YOU!
URL:https://caccn.ca/event/nursing-week-2025/
END:VEVENT
BEGIN:VEVENT
DTSTART;TZID=America/Toronto:20250512T000000
DTEND;TZID=America/Toronto:20250518T235959
DTSTAMP:20260423T103529
CREATED:20250328T102244Z
LAST-MODIFIED:20250328T102245Z
UID:11232-1747008000-1747612799@caccn.ca
SUMMARY:Semaine nationale des soins infirmiers 2025
DESCRIPTION:Dates à retenir! La Semaine nationale des soins infirmiers aura lieu du 12 au 18 mai 2025. Nous sommes heureux d’annoncer le thème de cette année : Le pouvoir des infirmières et infirmiers de transformer la santé.   Ce thème souligne l’influence incroyable des infirmières et infirmiers afin de façonner les soins de santé\, motiver l’innovation et défendre des soins axés sur les patients. La Semaine nationale des soins infirmiers est l’occasion de reconnaître et de célébrer le travail acharné et le dévouement des infirmières et infirmiers aux quatre coins du pays et dans le monde.  Nous sommes impatients de célébrer avec vous! 
URL:https://caccn.ca/event/semaine-nationale-des-soins-infirmiers-2025/
END:VEVENT
END:VCALENDAR