BEGIN:VCALENDAR
VERSION:2.0
PRODID:-//CACCN - ECPv6.15.20//NONSGML v1.0//EN
CALSCALE:GREGORIAN
METHOD:PUBLISH
X-WR-CALNAME:CACCN
X-ORIGINAL-URL:https://caccn.ca
X-WR-CALDESC:Events for CACCN
REFRESH-INTERVAL;VALUE=DURATION:PT1H
X-Robots-Tag:noindex
X-PUBLISHED-TTL:PT1H
BEGIN:VTIMEZONE
TZID:America/Toronto
BEGIN:DAYLIGHT
TZOFFSETFROM:-0500
TZOFFSETTO:-0400
TZNAME:EDT
DTSTART:20240310T070000
END:DAYLIGHT
BEGIN:STANDARD
TZOFFSETFROM:-0400
TZOFFSETTO:-0500
TZNAME:EST
DTSTART:20241103T060000
END:STANDARD
BEGIN:DAYLIGHT
TZOFFSETFROM:-0500
TZOFFSETTO:-0400
TZNAME:EDT
DTSTART:20250309T070000
END:DAYLIGHT
BEGIN:STANDARD
TZOFFSETFROM:-0400
TZOFFSETTO:-0500
TZNAME:EST
DTSTART:20251102T060000
END:STANDARD
BEGIN:DAYLIGHT
TZOFFSETFROM:-0500
TZOFFSETTO:-0400
TZNAME:EDT
DTSTART:20260308T070000
END:DAYLIGHT
BEGIN:STANDARD
TZOFFSETFROM:-0400
TZOFFSETTO:-0500
TZNAME:EST
DTSTART:20261101T060000
END:STANDARD
END:VTIMEZONE
BEGIN:VEVENT
DTSTART;TZID=America/Toronto:20250326T110000
DTEND;TZID=America/Toronto:20250326T120000
DTSTAMP:20260423T072449
CREATED:20250120T105319Z
LAST-MODIFIED:20250120T105331Z
UID:10432-1742986800-1742990400@caccn.ca
SUMMARY:Behind the Heartbeat: Fireside Chats with CVICU Nurses - CACCN Alberta Chapter
DESCRIPTION:Time: 01:00 pm Eastern = 11 am Mountain Time  Register by email: caccnalberta@caccn.ca
URL:https://caccn.ca/event/behind-the-heartbeat-fireside-chats-with-cvicu-nurses-caccn-alberta-chapter/
END:VEVENT
BEGIN:VEVENT
DTSTART;TZID=America/Toronto:20250326T140000
DTEND;TZID=America/Toronto:20250326T150000
DTSTAMP:20260423T072449
CREATED:20241212T144939Z
LAST-MODIFIED:20241212T144950Z
UID:10099-1742997600-1743001200@caccn.ca
SUMMARY:Revising the CACCN Standards for Critical Care Nursing Practice.
DESCRIPTION:Open to all.  If all 95 seats fill\, preference for the live event will be given to CACCN Members.  The webinar recording will be available open access after the live event. \n\n\n\nThe Canadian Association of Critical Care Nurses (CACCN) Standards for Critical Care Nursing Practice have undergone several revisions since inception.  This presentation will share how the 5th edition of the Standards were revised using a systematic review and a modified-Delphi consensus process.  The methodology and subsequent methods will be underscored to provide a reproducible process for future revisions.  The session will conclude with a presentation of the 6th edition of the CACCN Standards for Critical Care Nursing Practice.
URL:https://caccn.ca/event/revising-the-canadian-association-of-critical-care-nurses-caccn-standards-for-critical-care-nursing-practice/
END:VEVENT
END:VCALENDAR