BEGIN:VCALENDAR
VERSION:2.0
PRODID:-//CACCN - ECPv6.15.20//NONSGML v1.0//EN
CALSCALE:GREGORIAN
METHOD:PUBLISH
X-WR-CALNAME:CACCN
X-ORIGINAL-URL:https://caccn.ca
X-WR-CALDESC:Events for CACCN
REFRESH-INTERVAL;VALUE=DURATION:PT1H
X-Robots-Tag:noindex
X-PUBLISHED-TTL:PT1H
BEGIN:VTIMEZONE
TZID:America/Toronto
BEGIN:DAYLIGHT
TZOFFSETFROM:-0500
TZOFFSETTO:-0400
TZNAME:EDT
DTSTART:20240310T070000
END:DAYLIGHT
BEGIN:STANDARD
TZOFFSETFROM:-0400
TZOFFSETTO:-0500
TZNAME:EST
DTSTART:20241103T060000
END:STANDARD
BEGIN:DAYLIGHT
TZOFFSETFROM:-0500
TZOFFSETTO:-0400
TZNAME:EDT
DTSTART:20250309T070000
END:DAYLIGHT
BEGIN:STANDARD
TZOFFSETFROM:-0400
TZOFFSETTO:-0500
TZNAME:EST
DTSTART:20251102T060000
END:STANDARD
BEGIN:DAYLIGHT
TZOFFSETFROM:-0500
TZOFFSETTO:-0400
TZNAME:EDT
DTSTART:20260308T070000
END:DAYLIGHT
BEGIN:STANDARD
TZOFFSETFROM:-0400
TZOFFSETTO:-0500
TZNAME:EST
DTSTART:20261101T060000
END:STANDARD
END:VTIMEZONE
BEGIN:VEVENT
DTSTART;TZID=America/Toronto:20250308T080000
DTEND;TZID=America/Toronto:20250309T170000
DTSTAMP:20260423T072335
CREATED:20240705T104803Z
LAST-MODIFIED:20240705T104805Z
UID:9019-1741420800-1741539600@caccn.ca
SUMMARY:World Critical Care & Anesthesiology Conference 2025 
DESCRIPTION:Where:  Bangkok\, Thailand – Our focus is to bring together leading experts\, researchers\, and the most respected clinicians to exchange and share their meaningful experiences of various treatment procedures on Critical care\, Anesthesiology and Emergency medicine.
URL:https://caccn.ca/event/world-critical-care-anesthesiology-conference-2025/
END:VEVENT
END:VCALENDAR